BEGIN:VCALENDAR
VERSION:2.0
PRODID:-//Norwich Historical Society - ECPv5.9.1//NONSGML v1.0//EN
CALSCALE:GREGORIAN
METHOD:PUBLISH
X-WR-CALNAME:Norwich Historical Society
X-ORIGINAL-URL:https://www.norwichhistoricalsociety.org
X-WR-CALDESC:Events for Norwich Historical Society
BEGIN:VTIMEZONE
TZID:UTC
BEGIN:STANDARD
TZOFFSETFROM:+0000
TZOFFSETTO:+0000
TZNAME:UTC
DTSTART:20190101T000000
END:STANDARD
END:VTIMEZONE
BEGIN:VEVENT
DTSTART;TZID=UTC:20191025T183000
DTEND;TZID=UTC:20191025T203000
DTSTAMP:20260419T130441
CREATED:20190129T192807Z
LAST-MODIFIED:20190903T051234Z
UID:1884-1572028200-1572035400@www.norwichhistoricalsociety.org
SUMMARY:Antient Ghosts of Norwich Tour
DESCRIPTION:*Tickets go on sale September 2019* \nAs dusk approaches\, stroll through one of Norwich’s oldest graveyards and hear local ghostly legends. \nGeneral Admission: $10.00. Children 12 and under $5:00. Tour times: 6:40 pm\, 7 pm & 7:20 pm. Tours are limited to 30 people each. Advance registration required. To purchase tickets\, please click here\nmoderate\, 1 mile\, 1.5 hours\nRestrooms nearby\nno dogs\nespecially for children with families
URL:https://www.norwichhistoricalsociety.org/event/antient-ghosts-norwich-tour/
LOCATION:Norwichtown Green\, Elm Ave\, Norwich\, CT\, 06360
ORGANIZER;CN="Regan%20Miner":MAILTO:minerregan@gmail.com
END:VEVENT
END:VCALENDAR