BEGIN:VCALENDAR
VERSION:2.0
PRODID:-//Norwich Historical Society - ECPv5.9.1//NONSGML v1.0//EN
CALSCALE:GREGORIAN
METHOD:PUBLISH
X-WR-CALNAME:Norwich Historical Society
X-ORIGINAL-URL:https://www.norwichhistoricalsociety.org
X-WR-CALDESC:Events for Norwich Historical Society
BEGIN:VTIMEZONE
TZID:UTC
BEGIN:STANDARD
TZOFFSETFROM:+0000
TZOFFSETTO:+0000
TZNAME:UTC
DTSTART:20170101T000000
END:STANDARD
END:VTIMEZONE
BEGIN:VEVENT
DTSTART;TZID=UTC:20171027T184000
DTEND;TZID=UTC:20171027T204000
DTSTAMP:20260423T121106
CREATED:20170927T185657Z
LAST-MODIFIED:20170927T185809Z
UID:1671-1509129600-1509136800@www.norwichhistoricalsociety.org
SUMMARY:Antient Ghosts of Norwich
DESCRIPTION:Listing Number: 203\nFriday\, October 27\, 2017\n3 Tour times: 6:40pm/7:00pm/7:20pm\nFee $ Event\nModerate\nKey(s):Restrooms near\, Especially for families with children\nTitle: Antient Ghosts of Norwich\nAddress/Directions:\nLocation will be provided to those who register in advance.\, Norwich\, CT \nPre-registration only. Email to minerregan@gmail.com\n$5 Registration opens October 1\, 2017. \nAs dusk approaches\, stroll through one of Norwich’s oldest graveyards and hear local ghostly legends. Admission: $5.00. Tours are limited to 90 participants (three tours with 30 people on each tour)\, please email Regan at minerregan@gmail.com to register in advance. Note that the tour will have 3 step-off times: 6:40pm\, 7:00pm and 7:20pm. \n1.5 hours. 1 mile.\nSponsored by: Norwich Historical Society.\nwww.norwichhistoricalsociety.org
URL:https://www.norwichhistoricalsociety.org/event/antient-ghosts-norwich/
LOCATION:Norwichtown Green\, Elm Ave\, Norwich\, CT\, 06360
ORGANIZER;CN="Regan%20Miner":MAILTO:minerregan@gmail.com
END:VEVENT
END:VCALENDAR