BEGIN:VCALENDAR
VERSION:2.0
PRODID:-//Norwich Historical Society - ECPv5.9.1//NONSGML v1.0//EN
CALSCALE:GREGORIAN
METHOD:PUBLISH
X-WR-CALNAME:Norwich Historical Society
X-ORIGINAL-URL:https://www.norwichhistoricalsociety.org
X-WR-CALDESC:Events for Norwich Historical Society
BEGIN:VTIMEZONE
TZID:America/New_York
BEGIN:DAYLIGHT
TZOFFSETFROM:-0500
TZOFFSETTO:-0400
TZNAME:EDT
DTSTART:20220313T070000
END:DAYLIGHT
BEGIN:STANDARD
TZOFFSETFROM:-0400
TZOFFSETTO:-0500
TZNAME:EST
DTSTART:20221106T060000
END:STANDARD
END:VTIMEZONE
BEGIN:VEVENT
DTSTART;TZID=America/New_York:20221028T183000
DTEND;TZID=America/New_York:20221028T203000
DTSTAMP:20260422T141656
CREATED:20220725T200828Z
LAST-MODIFIED:20221004T123734Z
UID:3698-1666981800-1666989000@www.norwichhistoricalsociety.org
SUMMARY:SOLD OUT - Antient Ghosts of Norwich Tour
DESCRIPTION:Thank you so much for your interest in the Antient Ghosts of Norwich Tour. We are currently sold out for all three tours. We appreciate everyone’s support and patience while we worked through the glitches with our ticketing system.\n\nIf you’re looking for other Halloween events in Norwich that weekend\, please check out Leffingwell House Museum‘s Haunted History with Arrowhead Investigation October 28 and 29th and the NorWITCH Halloween Strut in Downtown Norwich Saturday October 29th from 6:00pm-8:00pm.\n—————————————————————————————————————————————————————- \nAs dusk approaches\, stroll through one of Norwich’s oldest graveyards and hear local ghostly legends and folklore. There will be three tours at 6:30pm\, 7:00pm\, and 7:30pm. Tours will be limited to 30 people each. Please register and purchase your ticket(s) in advance at norwichhistoricalsociety.org. Tickets will go on sale October 1\, 2022. \nThis Walktober tour is sponsored by the Norwich Historical Society.  Special thanks to CT Humanities for making this event possible. \nFriday 10/28/2022 6:30pm/7:00pm/7:30pm 69 East Town Street\, Norwichtown Green\, Norwich\, CT. Please check in for your tour on the Norwichtown Green. Please pre-register online at norwichhistoricalsociety.org \n1 Mile\, Moderate\, restrooms available\, no wheelchair access\, and no dogs please \nPURCHASE TICKETS HERE
URL:https://www.norwichhistoricalsociety.org/event/antient-ghosts-of-norwich-tour-2/
LOCATION:Norwichtown Green\, Elm Ave\, Norwich\, CT\, 06360
ATTACH;FMTTYPE=image/png:https://www.norwichhistoricalsociety.org/wp-content/uploads/2022/07/NHS-Walktober-FB-Events.png
ORGANIZER;CN="NHS":MAILTO:info@norwichhistoricalsociety.org
END:VEVENT
END:VCALENDAR