BEGIN:VCALENDAR
VERSION:2.0
PRODID:-//Norwich Historical Society - ECPv5.9.1//NONSGML v1.0//EN
CALSCALE:GREGORIAN
METHOD:PUBLISH
X-WR-CALNAME:Norwich Historical Society
X-ORIGINAL-URL:https://www.norwichhistoricalsociety.org
X-WR-CALDESC:Events for Norwich Historical Society
BEGIN:VTIMEZONE
TZID:UTC
BEGIN:STANDARD
TZOFFSETFROM:+0000
TZOFFSETTO:+0000
TZNAME:UTC
DTSTART:20170101T000000
END:STANDARD
END:VTIMEZONE
BEGIN:VEVENT
DTSTART;TZID=UTC:20170603T100000
DTEND;TZID=UTC:20170603T110000
DTSTAMP:20260424T053350
CREATED:20170517T215811Z
LAST-MODIFIED:20170517T215811Z
UID:1547-1496484000-1496487600@www.norwichhistoricalsociety.org
SUMMARY:CT Trails Day - The Legend of Uncas Leap
DESCRIPTION:Discover the Mohegan Tribe’s deep connection to Uncas Leap and learn about the legendary battle that gave the falls their name. Join us as members of the Mohegan Tribe and Norwich Historical Society guide visitors through the Mohegan tribe’s illustrious past in Norwich and hear about the exciting development plans for the property. The highlight of the tour is witnessing the grandeur of Uncas Leap Falls. Please wear comfortable shoes and clothing. \nNo bathroom facilities are available. \nLeader(s): Regan Miner & Stephanie Fielding\nLeader’s Phone Number: 860-886-1776\nTotal Distance (miles): 1.5\nMeeting Place: Uncas Leap Heritage Area 134 Yantic Street Norwich\, CT 06360\nRain Plan & Registration Details: Rain cancels.\nPre-registration is NOT NECESSARY\nSponsored by: The Norwich Historical Society – CT\, The Mohegan Tribe & The City of Norwich\, CT
URL:https://www.norwichhistoricalsociety.org/event/ct-trails-day-legend-uncas-leap/
LOCATION:Uncas Leap\, 200 Yantic Street\, Norwich \, CT\, 06360\, United States
ORGANIZER;CN="Regan%20Miner":MAILTO:minerregan@gmail.com
END:VEVENT
END:VCALENDAR