BEGIN:VCALENDAR
VERSION:2.0
PRODID:-//Norwich Historical Society - ECPv5.9.1//NONSGML v1.0//EN
CALSCALE:GREGORIAN
METHOD:PUBLISH
X-WR-CALNAME:Norwich Historical Society
X-ORIGINAL-URL:https://www.norwichhistoricalsociety.org
X-WR-CALDESC:Events for Norwich Historical Society
BEGIN:VTIMEZONE
TZID:UTC
BEGIN:STANDARD
TZOFFSETFROM:+0000
TZOFFSETTO:+0000
TZNAME:UTC
DTSTART:20180101T000000
END:STANDARD
END:VTIMEZONE
BEGIN:VEVENT
DTSTART;TZID=UTC:20180804T163000
DTEND;TZID=UTC:20180804T220000
DTSTAMP:20260422T160423
CREATED:20180703T183308Z
LAST-MODIFIED:20180723T190106Z
UID:1805-1533400200-1533420000@www.norwichhistoricalsociety.org
SUMMARY:A Fun Evening with the Norwich Historical Society
DESCRIPTION:A fun evening with The Norwich Historical Society \nfeaturing Jason Mraz in concert \nSaturday\, August 4th 8:00 p.m. Mohegan Sun Arena \n(Trivia game in the Skybox from 7:15-8pm) \nYour $50 Ticket Price includes: \n\nDinner at Arooga’s from 4:30pm-6:30pm (Please check in when you arrive and you’ll be directed towards our reserved area. Soft drinks are free and cash bar available.)\nAfter dinner\, join us in the exclusive skybox\nPrior to the concert\, test your knowledge of Norwich historical trivia with host Regan Miner!\nPrizes for trivia winners!\nCash bar is available in the Skybox\n\nYour entire $50 ticket purchase will support the Norwich Historical Society. \nPurchase tickets online at https://www.norwichhistoricalsociety.org/product-category/tickets/ or email Regan Miner for more info minerregan@gmail.com. \nTickets will be mailed up to one week before the concert. If you purchase tickets after the one week mark\, then a NHS volunteer will have your tickets available for pick up at the Arooga’s dinner between 4:30pm-6:30pm. \nThe Norwich Historical Society is extremely grateful to the Mohegan Tribe for allowing us the use of the Skybox for this fundraising event and special thank you to Arooga’s for sponsoring dinner. Thank you to The Bulletin for sponsoring the advertising for this event. \nArooga’s address: \nAROOGA’S RT. 32 UNCASVILLE \n32 Sandy Desert Road Uncasville\, CT 06382 \nAbout Jason Mraz \nJason Mraz is an American singer-songwriter who started out in 2000 in the San Diego coffee shop scene. He has toured all over the world and received numerous distinctions\, including two Grammys. His third studio album debuted at #3 on the Billboard 200 and is recognized for several hit singles including “I’m Yours”.
URL:https://www.norwichhistoricalsociety.org/event/fun-evening-norwich-historical-society/
LOCATION:Mohegan Sun Skybox\, 1 Mohegan Sun Boulevard \, Uncasville\, CT \, CT\, 06382\, United States
ORGANIZER;CN="Regan%20Miner":MAILTO:minerregan@gmail.com
END:VEVENT
END:VCALENDAR