BEGIN:VCALENDAR
VERSION:2.0
PRODID:-//Norwich Historical Society - ECPv5.9.1//NONSGML v1.0//EN
CALSCALE:GREGORIAN
METHOD:PUBLISH
X-WR-CALNAME:Norwich Historical Society
X-ORIGINAL-URL:https://www.norwichhistoricalsociety.org
X-WR-CALDESC:Events for Norwich Historical Society
BEGIN:VTIMEZONE
TZID:UTC
BEGIN:STANDARD
TZOFFSETFROM:+0000
TZOFFSETTO:+0000
TZNAME:UTC
DTSTART:20170101T000000
END:STANDARD
END:VTIMEZONE
BEGIN:VEVENT
DTSTART;TZID=UTC:20170721T200000
DTEND;TZID=UTC:20170721T230000
DTSTAMP:20260423T211754
CREATED:20170502T184658Z
LAST-MODIFIED:20170502T191206Z
UID:1525-1500667200-1500678000@www.norwichhistoricalsociety.org
SUMMARY:Jeff Dunham in the Mohegan Sun Skybox
DESCRIPTION:Please join the Norwich Historical Society for a special event to see Jeff Dunham in the exclusive Mohegan Sun Skybox! \nJeff Dunham at Mohegan Sun Arena \nFriday\, July 21st 2017 8:00pm \nYour $100 tax deductible ticket will include a drink ticket\, refreshments along with an amazing view from the Skybox. \nThe Norwich Historical Society is extremely grateful to the Mohegan Tribe for allowing us the use of the Skybox for this fundraising event. \nYour ticket price will support the Norwich Historical Society and the William B. Stanley Lecture Series. \nFor more information\, please contact Regan Miner\, minerregan@gmail.com or visit our website at https://www.norwichhistoricalsociety.org/product/jeff-dunham/ \nThere are only 100 tickets available for this special event so act now! \nJeffrey “Jeff” Dunham is an American ventriloquist\, producer\, and stand-up comedian who has also appeared on numerous television shows\, including Late Show with David Letterman\, Comedy Central Presents\, The Tonight Show and Sonny with a Chance. \n 
URL:https://www.norwichhistoricalsociety.org/event/jeff-dunham-mohegan-sun-skybox/
LOCATION:Mohegan Sun Skybox\, 1 Mohegan Sun Boulevard \, Uncasville\, CT \, CT\, 06382\, United States
ORGANIZER;CN="Regan%20Miner":MAILTO:minerregan@gmail.com
END:VEVENT
END:VCALENDAR