BEGIN:VCALENDAR
VERSION:2.0
PRODID:-//Norwich Historical Society - ECPv5.9.1//NONSGML v1.0//EN
CALSCALE:GREGORIAN
METHOD:PUBLISH
X-WR-CALNAME:Norwich Historical Society
X-ORIGINAL-URL:https://www.norwichhistoricalsociety.org
X-WR-CALDESC:Events for Norwich Historical Society
BEGIN:VTIMEZONE
TZID:UTC
BEGIN:STANDARD
TZOFFSETFROM:+0000
TZOFFSETTO:+0000
TZNAME:UTC
DTSTART:20180101T000000
END:STANDARD
END:VTIMEZONE
BEGIN:VEVENT
DTSTART;TZID=UTC:20180326T173000
DTEND;TZID=UTC:20180326T190000
DTSTAMP:20260423T065927
CREATED:20180201T030403Z
LAST-MODIFIED:20180326T193431Z
UID:1741-1522085400-1522090800@www.norwichhistoricalsociety.org
SUMMARY:NHS Annual Meeting
DESCRIPTION:ALL THE SPOTS ARE FILLED FOR THIS EVENT. THANKS FOR YOUR INTEREST! \nThe Norwich Historical Society’s mission is to help preserve\, protect and promote the rich history of Norwich\, CT. The Norwich Historical Society hosts an Annual Meeting\, which includes a brief business meeting and report\, followed by a program open to the public. \nPlease join us as Taftville Fire Chief\, Tim Jencks\, intertwines the history of the area with his own personal experiences growing up in Taftville. Additionally\, we will be premiering the documentary NHS created on the history of Taftville and the Ponemah Mills for our members. Special thanks to former NHS Secretary\, Dianne Brown\, and the Browning family for their contribution and help on this project. \nFollowing the documentary\, please join us for a special guided tour of the immaculately restored Ponemah Mills while hearing plans for Phase 2. \nThank you to The Lofts at Ponemah Mills and Taftville Fire Co.#2 for all their help coordinating and supporting this event. \nAll guests MUST park at the back of the building. Handicap parking violations will be strictly enforced through the Norwich Police Department. \nThe proper entrance to the Community Room is via the back entrance of the building. Space is limited to 60 people. Please preregister by emailing Regan at minerregan@gmail.com.
URL:https://www.norwichhistoricalsociety.org/event/nhs-annual-meeting/
LOCATION:The Lofts at Ponemah Mills\, 607 Norwich Ave\, Norwich\, CT\, 06360\, United States
ORGANIZER;CN="Regan%20Miner":MAILTO:minerregan@gmail.com
END:VEVENT
END:VCALENDAR