BEGIN:VCALENDAR
VERSION:2.0
PRODID:-//Norwich Historical Society - ECPv5.9.1//NONSGML v1.0//EN
CALSCALE:GREGORIAN
METHOD:PUBLISH
X-WR-CALNAME:Norwich Historical Society
X-ORIGINAL-URL:https://www.norwichhistoricalsociety.org
X-WR-CALDESC:Events for Norwich Historical Society
BEGIN:VTIMEZONE
TZID:UTC
BEGIN:STANDARD
TZOFFSETFROM:+0000
TZOFFSETTO:+0000
TZNAME:UTC
DTSTART:20190101T000000
END:STANDARD
END:VTIMEZONE
BEGIN:VEVENT
DTSTART;TZID=UTC:20190810T103000
DTEND;TZID=UTC:20190810T123000
DTSTAMP:20260419T164531
CREATED:20190219T223506Z
LAST-MODIFIED:20190219T223620Z
UID:1941-1565433000-1565440200@www.norwichhistoricalsociety.org
SUMMARY:NHS Second Saturday Tour - Hike in Mohegan Park
DESCRIPTION:Take a hike on the wild side with the Mohegan Striders for a NEW Second Saturday walk! Join us for a pleasant walk through the trails of Norwich’s Mohegan Park. The tour will visit the monuments\, then explore the trails where we’ll possibly get to see some wildlife. Meet in the park center by the fountain. Please respect that no pets are allowed in Mohegan Park. Sponsored by The Mohegan Striders. www.moheganstriders.org \nModerate\n2 miles\nEspecially for Families with Children\nno dogs
URL:https://www.norwichhistoricalsociety.org/event/nhs-second-saturday-hike-mohegan-park/
LOCATION:Mohegan Park\, Mohegan Park Road\, Norwich\, CT\, CT\, 06360
ORGANIZER;CN="Regan%20Miner":MAILTO:minerregan@gmail.com
END:VEVENT
END:VCALENDAR