BEGIN:VCALENDAR
VERSION:2.0
PRODID:-//Norwich Historical Society - ECPv5.9.1//NONSGML v1.0//EN
CALSCALE:GREGORIAN
METHOD:PUBLISH
X-WR-CALNAME:Norwich Historical Society
X-ORIGINAL-URL:https://www.norwichhistoricalsociety.org
X-WR-CALDESC:Events for Norwich Historical Society
BEGIN:VTIMEZONE
TZID:UTC
BEGIN:STANDARD
TZOFFSETFROM:+0000
TZOFFSETTO:+0000
TZNAME:UTC
DTSTART:20190101T000000
END:STANDARD
END:VTIMEZONE
BEGIN:VEVENT
DTSTART;TZID=UTC:20190608T100000
DTEND;TZID=UTC:20190608T110000
DTSTAMP:20260419T205214
CREATED:20190129T191615Z
LAST-MODIFIED:20190129T191615Z
UID:1880-1559988000-1559991600@www.norwichhistoricalsociety.org
SUMMARY:NHS Second Saturday Tour - Aaron Dwight Stevens Tour
DESCRIPTION:In October of 1859\, Lisbon born and Norwich raised\, Aaron Dwight Stevens\, along with John Brown\, led an historic raid at Harper’s Ferry\, Virginia\, and woke the Nation up to a new day in our history which was the impetus to put an end to slavery. That\, however\, was only a part of Dwight’s adventurous life. He fought in the War against Mexico\, with the elite Dragoons in New Mexico\, and against the pro-slavery factions in “Bloody Kansas.” Those adventures\, along with the love of two beautiful women\, made his short life an almost unbelievable but very true story. \nTom Coletti and Vic Butsch\, authors of A Journey to the Gallows\, would be pleased to share some of Dwight’s amazing story with you. The tour is completely centered close to young Dwight’s home\, church and school at the Norwichtown Green\, and will take one hour. Feel free to bring a portable folding chair if you wish. \nThis walk is one hour. Please gather on the Norwichtown Green in front of the Norwich Heritage & Regional Visitors’ Center at 69 East Town Street. Parking is along the Norwichtown Green.
URL:https://www.norwichhistoricalsociety.org/event/nhs-second-saturday-tour-aaron-dwight-stevens-tour/
LOCATION:Norwichtown Green\, Elm Ave\, Norwich\, CT\, 06360
ORGANIZER;CN="Regan%20Miner":MAILTO:minerregan@gmail.com
END:VEVENT
END:VCALENDAR