BEGIN:VCALENDAR
VERSION:2.0
PRODID:-//Norwich Historical Society - ECPv5.9.1//NONSGML v1.0//EN
CALSCALE:GREGORIAN
METHOD:PUBLISH
X-WR-CALNAME:Norwich Historical Society
X-ORIGINAL-URL:https://www.norwichhistoricalsociety.org
X-WR-CALDESC:Events for Norwich Historical Society
BEGIN:VTIMEZONE
TZID:UTC
BEGIN:STANDARD
TZOFFSETFROM:+0000
TZOFFSETTO:+0000
TZNAME:UTC
DTSTART:20180101T000000
END:STANDARD
END:VTIMEZONE
BEGIN:VEVENT
DTSTART;TZID=UTC:20180512T103000
DTEND;TZID=UTC:20180512T123000
DTSTAMP:20260423T034821
CREATED:20180104T211948Z
LAST-MODIFIED:20180104T211948Z
UID:1709-1526121000-1526128200@www.norwichhistoricalsociety.org
SUMMARY:NHS Second Saturday Tour - Firearm Factories of Norwich
DESCRIPTION:Walk\, Difficult\nTitle: Firearm Factories of Norwich\nAddress/Directions: City Hall\, 100 Broadway\, Norwich\, CT \nVisit the factories where firearms were manufactured from the mid 1800’s to 1931. Learn about the interesting history of the firearms industry in the Rose City. \n2.5 hours. 2 miles. Sponsored by the Guns of Norwich Historical Society.
URL:https://www.norwichhistoricalsociety.org/event/nhs-second-saturday-tour-firearm-factories-norwich/
LOCATION:City Hall\, 100 Broadway\, Norwich\, CT\, 06360\, United States
ORGANIZER;CN="Regan%20Miner":MAILTO:minerregan@gmail.com
END:VEVENT
END:VCALENDAR