BEGIN:VCALENDAR
VERSION:2.0
PRODID:-//Norwich Historical Society - ECPv5.9.1//NONSGML v1.0//EN
CALSCALE:GREGORIAN
METHOD:PUBLISH
X-WR-CALNAME:Norwich Historical Society
X-ORIGINAL-URL:https://www.norwichhistoricalsociety.org
X-WR-CALDESC:Events for Norwich Historical Society
BEGIN:VTIMEZONE
TZID:UTC
BEGIN:STANDARD
TZOFFSETFROM:+0000
TZOFFSETTO:+0000
TZNAME:UTC
DTSTART:20180101T000000
END:STANDARD
END:VTIMEZONE
BEGIN:VEVENT
DTSTART;TZID=UTC:20180908T103000
DTEND;TZID=UTC:20180908T120000
DTSTAMP:20260422T125318
CREATED:20180112T011052Z
LAST-MODIFIED:20180112T011052Z
UID:1730-1536402600-1536408000@www.norwichhistoricalsociety.org
SUMMARY:NHS Second Saturday Tour - The Norwich Freedom Trail
DESCRIPTION:Walk- Moderate\nAddress/Directions: City Hall\, 100 Broadway\, Norwich\, CT\nParking – City Hall Garage \nDuring the Nineteenth Century\, the City of Norwich was home to a vibrant abolitionist movement. Residents such as David Ruggles played an active role in the Underground Railroad and the Harris Sisters attended Prudence Crandall’s controversial “Young Ladies and Little Misses of Color” school in Canterbury. On this tour\, you’ll hear incredible stories about colonial era blacksmith\, Guy Drock\, who earned his freedom and fugitive slave\, shoemaker\, minister and author\, James L. Smith. Please join us as we explore a largely untold piece of Norwich’s history in the Jail Hill Historic District. \n1.5 hours. 1.5 miles.\nSponsored by: Norwich City Historian & the Norwich Historical Society
URL:https://www.norwichhistoricalsociety.org/event/nhs-second-saturday-tour-norwich-freedom-trail/
LOCATION:City Hall\, 100 Broadway\, Norwich\, CT\, 06360\, United States
ORGANIZER;CN="Regan%20Miner":MAILTO:minerregan@gmail.com
END:VEVENT
END:VCALENDAR