BEGIN:VCALENDAR
VERSION:2.0
PRODID:-//Norwich Historical Society - ECPv5.9.1//NONSGML v1.0//EN
CALSCALE:GREGORIAN
METHOD:PUBLISH
X-WR-CALNAME:Norwich Historical Society
X-ORIGINAL-URL:https://www.norwichhistoricalsociety.org
X-WR-CALDESC:Events for Norwich Historical Society
BEGIN:VTIMEZONE
TZID:UTC
BEGIN:STANDARD
TZOFFSETFROM:+0000
TZOFFSETTO:+0000
TZNAME:UTC
DTSTART:20170101T000000
END:STANDARD
END:VTIMEZONE
BEGIN:VEVENT
DTSTART;TZID=UTC:20170513T103000
DTEND;TZID=UTC:20170513T120000
DTSTAMP:20260424T084420
CREATED:20170303T040429Z
LAST-MODIFIED:20170303T040429Z
UID:1482-1494671400-1494676800@www.norwichhistoricalsociety.org
SUMMARY:NHS- Second Saturday Tours: Norwich Millionaires' Triangle
DESCRIPTION:Norwich Millionaires’ Triangle \nDate/Time: May 13\, 2017 10:30am\nStarting Point: Chelsea Parade South\, Norwich\, CT\nDifficulty Level: Moderate\nLength: 1 Mile\nApproximate Duration: 2 hours\nRestrooms Near? No\nWheelchair Access? No\nAre Leashed Dogs Allowed: No\nParking: Norwich Free Academy\, Chelsea Parade\n\nJoin us as local expert\, Tricia Staley\, introduces you to the families who lived in the mansions along Washington St. and Broadway – Norwich’s Millionaires’ Triangle – in the last half of the 19th century when Norwich was a wealthy manufacturing center whose residents drew the attention of people across the nation. We’ll talk about who they were and how they lived during the most opulent era of the City’s history. \nAfter the tour\, please visit The Slater Memorial Museum open 1:00pm-4:00pm on the weekends and see the portraits of Norwich’s Millionaires’ in their Norwich gallery. \nFor more information about Norwich in the Gilded Age\, please consider purchasing Tricia Staley’s book\, “Norwich in the Gilded Age”-https://www.amazon.com/Norwich-Gilded-Age-Millionaires-Landmarks/dp/1626192472. Please consider donating to the Norwich Historical Society via Amazon Smile.
URL:https://www.norwichhistoricalsociety.org/event/nhs-second-saturday-tours-norwich-millionaires-triangle/
LOCATION:Chelsea Parade\, Chelsea Parade South \, Norwich\, CT\, 06360\, United States
ORGANIZER;CN="Regan%20Miner":MAILTO:minerregan@gmail.com
END:VEVENT
END:VCALENDAR