BEGIN:VCALENDAR
VERSION:2.0
PRODID:-//Norwich Historical Society - ECPv5.9.1//NONSGML v1.0//EN
CALSCALE:GREGORIAN
METHOD:PUBLISH
X-WR-CALNAME:Norwich Historical Society
X-ORIGINAL-URL:https://www.norwichhistoricalsociety.org
X-WR-CALDESC:Events for Norwich Historical Society
BEGIN:VTIMEZONE
TZID:UTC
BEGIN:STANDARD
TZOFFSETFROM:+0000
TZOFFSETTO:+0000
TZNAME:UTC
DTSTART:20170101T000000
END:STANDARD
END:VTIMEZONE
BEGIN:VEVENT
DTSTART;TZID=UTC:20170708T103000
DTEND;TZID=UTC:20170708T120000
DTSTAMP:20260423T230539
CREATED:20170303T041205Z
LAST-MODIFIED:20170303T041205Z
UID:1488-1499509800-1499515200@www.norwichhistoricalsociety.org
SUMMARY:NHS- Second Saturday Tours: Walking in a Traitor's Footsteps
DESCRIPTION:Walking in a Traitor’s Footsteps\nTime/Date: July 8\, 2017 10:30am\nStarting Point: Leffingwell House Museum\nDifficulty Level: Easy-Moderate\nLength: 2 Miles\nApproximate Duration: 1.5 hours\nRestrooms Near? Yes\nWheelchair Access? No\nAre Leashed Dogs Allowed: Yes \nNHS Consultant\, Regan Miner\, will discuss Benedict Arnold’s upbringing in Norwich and highlight many important citizens who contributed to the American Revolution and founding of Norwich. After the tour\, please visit theLeffingwell House Museum\, open Saturdays 11am-4pm April- October for $5. Benedict Arnold Walking Trail of Norwich\, CT has just been added to theWalk Norwich\, CT Self-guided trail system! Brochures are available at theNorwich Heritage and Regional Visitors Center and be sure to check outwalknorwich.org! \nFREE. Please wear comfortable shoes and clothing.
URL:https://www.norwichhistoricalsociety.org/event/nhs-second-saturday-tours-walking-traitors-footsteps/
LOCATION:Leffingwell House Museum\, 348 Washington Street \, Norwich \, CT\, 06360\, United States
ORGANIZER;CN="Regan%20Miner":MAILTO:minerregan@gmail.com
END:VEVENT
END:VCALENDAR