BEGIN:VCALENDAR
VERSION:2.0
PRODID:-//Norwich Historical Society - ECPv5.9.1//NONSGML v1.0//EN
CALSCALE:GREGORIAN
METHOD:PUBLISH
X-WR-CALNAME:Norwich Historical Society
X-ORIGINAL-URL:https://www.norwichhistoricalsociety.org
X-WR-CALDESC:Events for Norwich Historical Society
BEGIN:VTIMEZONE
TZID:UTC
BEGIN:STANDARD
TZOFFSETFROM:+0000
TZOFFSETTO:+0000
TZNAME:UTC
DTSTART:20180101T000000
END:STANDARD
END:VTIMEZONE
BEGIN:VEVENT
DTSTART;TZID=UTC:20180922T093000
DTEND;TZID=UTC:20180922T233000
DTSTAMP:20260422T110445
CREATED:20180104T213233Z
LAST-MODIFIED:20180112T005517Z
UID:1714-1537608600-1537659000@www.norwichhistoricalsociety.org
SUMMARY:Walktober 2018- Walking in a Traitor's Footsteps
DESCRIPTION:Walk\, Moderate\nKey(s):Restrooms near\, Leashed dogs\, Especially for families with children\nTitle: Walking in a Traitor’s Footsteps\nAddress/Directions: Leffingwell House Museum\, 348 Washington St.\, Norwich\, CT \nJoin us as we explore Benedict Arnold’s tumultuous childhood in Norwich and learn about other significant colonial era figures from Norwich. After the tour\, please participate in the Leffingwell House Museum’s special events. \n2 hours. 2 miles.\nSponsored by: Norwich Historical Society\nwww.norwichhistoricalsociety.org
URL:https://www.norwichhistoricalsociety.org/event/nhs-second-saturday-walking-tour-walking-traitors-footsteps/
LOCATION:Leffingwell House Museum\, 348 Washington Street \, Norwich \, CT\, 06360\, United States
ORGANIZER;CN="Regan%20Miner":MAILTO:minerregan@gmail.com
END:VEVENT
END:VCALENDAR