BEGIN:VCALENDAR
VERSION:2.0
PRODID:-//Norwich Historical Society - ECPv5.9.1//NONSGML v1.0//EN
CALSCALE:GREGORIAN
METHOD:PUBLISH
X-WR-CALNAME:Norwich Historical Society
X-ORIGINAL-URL:https://www.norwichhistoricalsociety.org
X-WR-CALDESC:Events for Norwich Historical Society
BEGIN:VTIMEZONE
TZID:UTC
BEGIN:STANDARD
TZOFFSETFROM:+0000
TZOFFSETTO:+0000
TZNAME:UTC
DTSTART:20170101T000000
END:STANDARD
END:VTIMEZONE
BEGIN:VEVENT
DTSTART;TZID=UTC:20170812T103000
DTEND;TZID=UTC:20170812T120000
DTSTAMP:20260423T193553
CREATED:20170303T041827Z
LAST-MODIFIED:20170303T043153Z
UID:1491-1502533800-1502539200@www.norwichhistoricalsociety.org
SUMMARY:NHS- Second Saturday Walking Tours: Ye Olde Antient Burial Ground
DESCRIPTION:Ye Olde Antient Burial Ground\nTime/Date: August 12\, 2017 10:30am\nStarting Point: Norwich Heritage and Regional Visitors Center\nDifficulty Level: Easy\nLength: 1 Mile\nApproximate Duration: 1.5 hours\nRestrooms Near? Yes\nWheelchair Access? No\nAre Leashed Dogs Allowed: No \nThe Ancient Norwichtown Burial Grounds opened in 1699 and served as the final resting place for many folks who lived in Colonial Norwich. The old stone monuments with their inscriptions and various art forms offer us a window into the lives of those who lived here 300 years ago…their view of the world\, philosophy of life and death. Join expert\, Dave Oat\, as we explore death and burial traditions and learn that these ancient burial places are much like outdoor museums. They are filled with our countries first sculpture. These old stones tell a story of changing religious beliefs and family genealogy. You’ll find tales of tragedy and some humor. Join us in a stroll through an ancient burial ground and discover what can be learned if you take the time to stop look. \nFREE. Please wear comfortable clothing and shoes.
URL:https://www.norwichhistoricalsociety.org/event/nhs-second-saturday-walking-tours-ye-olde-antient-burial-ground/
LOCATION:Norwich Heritage & Regional Visitors’ Center\, 69 East Town Street \, Norwich \, CT\, 06360\, United States
ORGANIZER;CN="Regan%20Miner":MAILTO:minerregan@gmail.com
END:VEVENT
END:VCALENDAR