BEGIN:VCALENDAR
VERSION:2.0
PRODID:-//Norwich Historical Society - ECPv5.9.1//NONSGML v1.0//EN
CALSCALE:GREGORIAN
METHOD:PUBLISH
X-WR-CALNAME:Norwich Historical Society
X-ORIGINAL-URL:https://www.norwichhistoricalsociety.org
X-WR-CALDESC:Events for Norwich Historical Society
BEGIN:VTIMEZONE
TZID:UTC
BEGIN:STANDARD
TZOFFSETFROM:+0000
TZOFFSETTO:+0000
TZNAME:UTC
DTSTART:20170101T000000
END:STANDARD
END:VTIMEZONE
BEGIN:VEVENT
DTSTART;TZID=UTC:20170408T103000
DTEND;TZID=UTC:20170408T120000
DTSTAMP:20260424T121955
CREATED:20170303T035705Z
LAST-MODIFIED:20170303T035754Z
UID:1473-1491647400-1491652800@www.norwichhistoricalsociety.org
SUMMARY:NHS- Second Saturdays Tours: Civil War History of Yantic Cemetery
DESCRIPTION:Civil War History of the Yantic Cemetery\nTime/Date: April 8\, 2017 10:30am\nStarting Point: Yantic Cemetery\, 68 Lafayette Street\, Norwich\, CT\nDifficulty Level: Easy\nLength: 1 Mile\nApproximate Duration: 1.5 hours\nRestrooms Near? No\nWheelchair Access? No\nAre Leashed Dogs Allowed: No\n\nLocal expert\, Vic Butsch\, gives visitors a fascinating overview of Norwich’s pivotal role in the Civil War and leaves you wanting more. On this tour\, you’ll learn about two brothers who fought against each other on the battlefield giving new meaning to the word “fratricidal war.” In addition\, you’ll learn about the valor of numerous Generals and soldiers on the battlefield and the Andersonville Circle. We hope you join us for this walk back in time in one of Norwich’s most beautiful cemeteries. Please dress for the weather and wear comfortable shoes. FREE. \nFor lunch\, please consider going to Philly’s A Taste Of Philadelphia or LuLu’s Lunchbox and then stick around for the 1:00pm Norwich Notables of Yantic Cemtery tour. \nTricia Staley has a new book Norwich in the Civil War which can be purchased here: https://www.arcadiapublishing.com/9781626199927/Norwich-and-the-Civil-War \nVic Butsch and Tommy Coletti have recently published a book\, Journey to the Gallows\, which can be purchased here: http://www.amazon.com/A-Journey-Gallows-Thomas-Coletti/dp/1681020491.\nPlease consider donating to the Norwich Historical Society via Amazon Smile.
URL:https://www.norwichhistoricalsociety.org/event/nhs-second-saturdays-tours-civil-war-history-yantic-cemetery/
LOCATION:Yantic Cemetery\, 68 Lafayette Street \, Norwich \, CT\, 06360\, United States
ORGANIZER;CN="Regan%20Miner":MAILTO:minerregan@gmail.com
END:VEVENT
END:VCALENDAR