BEGIN:VCALENDAR
VERSION:2.0
PRODID:-//Norwich Historical Society - ECPv5.9.1//NONSGML v1.0//EN
CALSCALE:GREGORIAN
METHOD:PUBLISH
X-WR-CALNAME:Norwich Historical Society
X-ORIGINAL-URL:https://www.norwichhistoricalsociety.org
X-WR-CALDESC:Events for Norwich Historical Society
BEGIN:VTIMEZONE
TZID:America/New_York
BEGIN:DAYLIGHT
TZOFFSETFROM:-0500
TZOFFSETTO:-0400
TZNAME:EDT
DTSTART:20210314T070000
END:DAYLIGHT
BEGIN:STANDARD
TZOFFSETFROM:-0400
TZOFFSETTO:-0500
TZNAME:EST
DTSTART:20211107T060000
END:STANDARD
END:VTIMEZONE
BEGIN:VEVENT
DTSTART;TZID=America/New_York:20211005T100000
DTEND;TZID=America/New_York:20211005T113000
DTSTAMP:20260423T005022
CREATED:20210721T180728Z
LAST-MODIFIED:20210721T180728Z
UID:3042-1633428000-1633433400@www.norwichhistoricalsociety.org
SUMMARY:Norwich City Hall Facts and Folklore
DESCRIPTION:Walktober is about the outdoors but Norwich City Hall is a true work of art that should be visited. Completed in 1873\, the building features “dungeon-like” cells in the basement\, French Second Empire architecture\, and many of the original furnishings. It is a true masterpiece of craftmanship punctuated with a gold clock tower. Join city leaders in this engaging tour. Ages 10 years and up only. Note: access into the clock tower not permitted. Please meet inside by the docent booth on the first floor. This tour is sponsored by the City of Norwich\, the Norwich Historical Society\, and the Last Green Valley. This event is free to attend\, but pre-registration is required. If you are unvaccinated\, please wear a mask. Vaccinated individuals do not need to wear a mask. \nLess than a mile; easy. Restrooms available. Wheelchair access. No dogs.
URL:https://www.norwichhistoricalsociety.org/event/norwich-city-hall-facts-and-folklore/
LOCATION:City Hall\, 100 Broadway\, Norwich\, CT\, 06360\, United States
ATTACH;FMTTYPE=image/png:https://www.norwichhistoricalsociety.org/wp-content/uploads/2021/07/Norwich-City-Hall-Facts-and-Folklore-Website-events.png
ORGANIZER;CN="NHS":MAILTO:info@norwichhistoricalsociety.org
END:VEVENT
END:VCALENDAR