BEGIN:VCALENDAR
VERSION:2.0
PRODID:-//Norwich Historical Society - ECPv5.9.1//NONSGML v1.0//EN
CALSCALE:GREGORIAN
METHOD:PUBLISH
X-WR-CALNAME:Norwich Historical Society
X-ORIGINAL-URL:https://www.norwichhistoricalsociety.org
X-WR-CALDESC:Events for Norwich Historical Society
BEGIN:VTIMEZONE
TZID:UTC
BEGIN:STANDARD
TZOFFSETFROM:+0000
TZOFFSETTO:+0000
TZNAME:UTC
DTSTART:20190101T000000
END:STANDARD
END:VTIMEZONE
BEGIN:VEVENT
DTSTART;TZID=UTC:20190921T180000
DTEND;TZID=UTC:20190921T200000
DTSTAMP:20260419T165358
CREATED:20190611T010036Z
LAST-MODIFIED:20190611T010036Z
UID:1978-1569088800-1569096000@www.norwichhistoricalsociety.org
SUMMARY:Norwich History Trivia Challenge
DESCRIPTION:Please join the Norwich Historical Society for an evening of fun and Norwich history trivia! The trivia questions will be based primarily off of the four Walk Norwich Trails (walknorwich.org.) There will be a cash bar\, silent auction\, and appetizers. Please purchase tickets at norwichhistoricalsociety.org. \nSaturday September 21\, 2019 6:00pm-8:00pm \nCourtyard By Marriott 181 West Town Street Norwich\, CT 06360 \n*note\, banquet room is in the lower level near Prime 82 \n$30 for individual\, $50 for couples
URL:https://www.norwichhistoricalsociety.org/event/norwich-history-trivia-challenge/
LOCATION:Courtyard By Marriott\, 181 West Town Street\, Norwich\, CT\, 06360\, United States
ORGANIZER;CN="Regan%20Miner":MAILTO:minerregan@gmail.com
END:VEVENT
END:VCALENDAR