BEGIN:VCALENDAR
VERSION:2.0
PRODID:-//Norwich Historical Society - ECPv5.9.1//NONSGML v1.0//EN
CALSCALE:GREGORIAN
METHOD:PUBLISH
X-WR-CALNAME:Norwich Historical Society
X-ORIGINAL-URL:https://www.norwichhistoricalsociety.org
X-WR-CALDESC:Events for Norwich Historical Society
BEGIN:VTIMEZONE
TZID:UTC
BEGIN:STANDARD
TZOFFSETFROM:+0000
TZOFFSETTO:+0000
TZNAME:UTC
DTSTART:20180101T000000
END:STANDARD
END:VTIMEZONE
BEGIN:VEVENT
DTSTART;TZID=UTC:20180114T150000
DTEND;TZID=UTC:20180114T190000
DTSTAMP:20260423T083742
CREATED:20171207T192126Z
LAST-MODIFIED:20180112T001517Z
UID:1690-1515942000-1515956400@www.norwichhistoricalsociety.org
SUMMARY:Walk Norwich: History & Hops
DESCRIPTION:During the American Revolution\, Norwich residents sprang into action to support the patriot cause. Join us for some good old fashioned merriment and libations as we learn about some of the brave figures who fought in the Revolution and all the exciting controversies that were once the talk of the day! \n*Colonial Garb is encouraged* \nAdvance registration is not necessary\, just show up at These Guys. \nSchedule of Posts:\nFirst Post: These Guys Brewing Co LLC 3:00pm-3:45pm\nSecond Post: Epicure Brewing 3:45pm-4:30pm\nThird Post: Billy Wilson’s Ageing Still 4:30pm-5:15pm\nFourth Post: Harp & Dragon 5:15 – 6:00pm\nFifth Post: Strange Brew Pub 6:00pm – 6:45pm
URL:https://www.norwichhistoricalsociety.org/event/patriots-traitors-a-norwich-tavern-tour/
LOCATION:Downtown Norwich Historic District\, Main Street\, Norwich\, CT\, 06360\, United States
ORGANIZER;CN="Regan%20Miner":MAILTO:minerregan@gmail.com
END:VEVENT
END:VCALENDAR