BEGIN:VCALENDAR
VERSION:2.0
PRODID:-//Norwich Historical Society - ECPv5.9.1//NONSGML v1.0//EN
CALSCALE:GREGORIAN
METHOD:PUBLISH
X-WR-CALNAME:Norwich Historical Society
X-ORIGINAL-URL:https://www.norwichhistoricalsociety.org
X-WR-CALDESC:Events for Norwich Historical Society
BEGIN:VTIMEZONE
TZID:UTC
BEGIN:STANDARD
TZOFFSETFROM:+0000
TZOFFSETTO:+0000
TZNAME:UTC
DTSTART:20190101T000000
END:STANDARD
END:VTIMEZONE
BEGIN:VEVENT
DTSTART;TZID=UTC:20190429T170000
DTEND;TZID=UTC:20190429T183000
DTSTAMP:20260420T031118
CREATED:20190416T194823Z
LAST-MODIFIED:20190416T194823Z
UID:1962-1556557200-1556562600@www.norwichhistoricalsociety.org
SUMMARY:Say Hi to our New Executive Director!
DESCRIPTION:We announced some BIG NEWS at our Annual Meeting. The Norwich Historical Society Board of Directors is pleased to announce that our Consultant\, Regan Miner\, has been named part time Executive Director of the Norwich Historical Society! Regan has been a Consultant for NHS since 2014 and under her direction\, NHS was able to open the Norwich Heritage & Regional Visitors’ Center and complete the Walk Norwich\, CT Trail System. Regan is a proud Norwich na-tive and is passionate about Norwich’s rich history. NHS is serious about taking Norwich’s heritage tourism initiatives to the next level and officially naming Regan as our Executive Director was the first step. \nPlease join us in congratulating Regan at Café Otis on April 29\, 2019 from 5:00pm – 6:30pm. Pop in anytime\, this is a free event\, but you may want to enjoy some food or drink while you are there.
URL:https://www.norwichhistoricalsociety.org/event/say-hi-new-executive-director/
LOCATION:Cafe Otis\, 80 Broadway\, Norwich\, CT\, 06360\, United States
ORGANIZER;CN="Regan%20Miner":MAILTO:minerregan@gmail.com
END:VEVENT
END:VCALENDAR