BEGIN:VCALENDAR
VERSION:2.0
PRODID:-//Norwich Historical Society - ECPv5.9.1//NONSGML v1.0//EN
CALSCALE:GREGORIAN
METHOD:PUBLISH
X-WR-CALNAME:Norwich Historical Society
X-ORIGINAL-URL:https://www.norwichhistoricalsociety.org
X-WR-CALDESC:Events for Norwich Historical Society
BEGIN:VTIMEZONE
TZID:UTC
BEGIN:STANDARD
TZOFFSETFROM:+0000
TZOFFSETTO:+0000
TZNAME:UTC
DTSTART:20170101T000000
END:STANDARD
END:VTIMEZONE
BEGIN:VEVENT
DTSTART;TZID=UTC:20170817T160000
DTEND;TZID=UTC:20170817T170000
DTSTAMP:20260423T180315
CREATED:20170811T171753Z
LAST-MODIFIED:20170811T171753Z
UID:1613-1502985600-1502989200@www.norwichhistoricalsociety.org
SUMMARY:Student Intern Presentation
DESCRIPTION:Please join us for a special presentation showcasing our Summer Intern’s research projects. Our students worked very hard this summer doing all sorts of projects such as researching and writing articles and creating interpretive text panels. This event will feature our student interns presenting their research to the public in a conference like style. \nTopics include:\n– Lafayette Foster\n– William Buckingham\n– Ponemah Mill \nWe hope you can join us!
URL:https://www.norwichhistoricalsociety.org/event/student-intern-presentation/
LOCATION:Norwich Heritage & Regional Visitors’ Center\, 69 East Town Street \, Norwich \, CT\, 06360\, United States
ORGANIZER;CN="Regan%20Miner":MAILTO:minerregan@gmail.com
END:VEVENT
END:VCALENDAR