BEGIN:VCALENDAR
VERSION:2.0
PRODID:-//Norwich Historical Society - ECPv5.9.1//NONSGML v1.0//EN
CALSCALE:GREGORIAN
METHOD:PUBLISH
X-WR-CALNAME:Norwich Historical Society
X-ORIGINAL-URL:https://www.norwichhistoricalsociety.org
X-WR-CALDESC:Events for Norwich Historical Society
BEGIN:VTIMEZONE
TZID:America/New_York
BEGIN:DAYLIGHT
TZOFFSETFROM:-0500
TZOFFSETTO:-0400
TZNAME:EDT
DTSTART:20230312T070000
END:DAYLIGHT
BEGIN:STANDARD
TZOFFSETFROM:-0400
TZOFFSETTO:-0500
TZNAME:EST
DTSTART:20231105T060000
END:STANDARD
END:VTIMEZONE
BEGIN:VEVENT
DTSTART;TZID=America/New_York:20230810T110000
DTEND;TZID=America/New_York:20230810T120000
DTSTAMP:20260423T114816
CREATED:20230719T175735Z
LAST-MODIFIED:20230726T171944Z
UID:4464-1691665200-1691668800@www.norwichhistoricalsociety.org
SUMMARY:Uncas Leap Heritage Park Groundbreaking Ceremony
DESCRIPTION:Please join us as we celebrate the groundbreaking of the Uncas Leap Heritage Park! Construction on the site will begin on August 1\, 2023 and the park will be completed Summer 2024. Planning for this project has been in the works since 2010 thanks to many dedicated individuals and organizations and now Federal\, State and Municipal funding have made the project a reality. Over $2 million dollars will create a public space for residents and visitors to learn about the site’s rich history\, enjoy the natural beauty of the space\, and have a small venue for performing arts in the proposed story circle. The public is welcome to attend this event.\nParking information: There is an offsite parking lot that can hold roughly 9 vehicles and there is additional parking available at the Norwich Free Academy Sachem Campus located at 90 Sachem St\, Norwich\, CT 06360 and at Church and Allen Funeral Home located at 136 Sachem St\, Norwich\, CT 06360. We have permission to use both lots for this event. (Church and Allen has a funeral scheduled at 2pm that day\, so we’d need to clear out of their lot by 1pm). We encourage those who are able to carpool to please do so to limit the number of cars in the small offsite lot. \nClick Here to see the Uncas Leap Master Plan Rendering 
URL:https://www.norwichhistoricalsociety.org/event/uncas-leap-heritage-park-groundbreaking-ceremony/
LOCATION:Uncas Leap\, 200 Yantic Street\, Norwich \, CT\, 06360\, United States
ATTACH;FMTTYPE=image/png:https://www.norwichhistoricalsociety.org/wp-content/uploads/2023/07/Uncas-Leap-Groundbreaking-Ceremony-1.png
ORGANIZER;CN="NHS":MAILTO:info@norwichhistoricalsociety.org
END:VEVENT
END:VCALENDAR