BEGIN:VCALENDAR
VERSION:2.0
PRODID:-//Norwich Historical Society - ECPv5.9.1//NONSGML v1.0//EN
CALSCALE:GREGORIAN
METHOD:PUBLISH
X-WR-CALNAME:Norwich Historical Society
X-ORIGINAL-URL:https://www.norwichhistoricalsociety.org
X-WR-CALDESC:Events for Norwich Historical Society
BEGIN:VTIMEZONE
TZID:UTC
BEGIN:STANDARD
TZOFFSETFROM:+0000
TZOFFSETTO:+0000
TZNAME:UTC
DTSTART:20180101T000000
END:STANDARD
END:VTIMEZONE
BEGIN:VEVENT
DTSTART;TZID=UTC:20180531T110000
DTEND;TZID=UTC:20180531T170000
DTSTAMP:20260423T020546
CREATED:20180420T210855Z
LAST-MODIFIED:20180420T210933Z
UID:1780-1527764400-1527786000@www.norwichhistoricalsociety.org
SUMMARY:Visitors' Center Opening
DESCRIPTION:Come join us for our opening day of the season! Our new hours will be Thursday – Sunday 11:00am -5:00pm.
URL:https://www.norwichhistoricalsociety.org/event/visitors-center-opening/
LOCATION:Norwich Heritage & Regional Visitors’ Center\, 69 East Town Street \, Norwich \, CT\, 06360\, United States
ORGANIZER;CN="Regan%20Miner":MAILTO:minerregan@gmail.com
END:VEVENT
END:VCALENDAR