BEGIN:VCALENDAR
VERSION:2.0
PRODID:-//Norwich Historical Society - ECPv5.9.1//NONSGML v1.0//EN
CALSCALE:GREGORIAN
METHOD:PUBLISH
X-WR-CALNAME:Norwich Historical Society
X-ORIGINAL-URL:https://www.norwichhistoricalsociety.org
X-WR-CALDESC:Events for Norwich Historical Society
BEGIN:VTIMEZONE
TZID:UTC
BEGIN:STANDARD
TZOFFSETFROM:+0000
TZOFFSETTO:+0000
TZNAME:UTC
DTSTART:20180101T000000
END:STANDARD
END:VTIMEZONE
BEGIN:VEVENT
DTSTART;TZID=UTC:20181101T183000
DTEND;TZID=UTC:20181101T193000
DTSTAMP:20260422T075310
CREATED:20180828T000205Z
LAST-MODIFIED:20180828T000205Z
UID:1841-1541097000-1541100600@www.norwichhistoricalsociety.org
SUMMARY:William B. Stanley Lecture Series - Tom Clavin
DESCRIPTION:Bank Square Books and the Norwich Historical Society present a William B. Stanley Lecture Series history talk and book signing with Tom Clavin\, the co-author of Valley Forge. This event is free and open to the public; books will be available for purchase through Bank Square Books at the event. \nAbout the Book\nThe #1 New York Times bestselling authors of The Heart of Everything That Is return with one of the most inspiring—and underappreciated—chapters in American history: the story of the Continental Army’s six-month transformation in Valley Forge. \n\n\n\nAbout the Author\nTom Clavin is the author or coauthor of sixteen books. For fifteen years he wrote for The New York Times and has contributed to such magazines as Golf\, Men’s Journal\, Parade\, Reader’s Digest\, and Smithsonian. He is currently the investigative features correspondent for Manhattan Magazine. He lives in Sag Harbor\, New York. \n\n\n\n\nEvent date:\n\nThursday\, November 1\, 2018 – 6:30pm to 7:30pm\n\n\n\nEvent address:\n\n\n\nSlater Auditorium\n108 Crescent St.\n\nNorwich\, CT 06360
URL:https://www.norwichhistoricalsociety.org/event/william-b-stanley-lecture-series-tom-clavin/
LOCATION:Slater Auditorium\, 108 Crescent Street\, Norwich\, CT\, 06360\, United States
ORGANIZER;CN="Regan%20Miner":MAILTO:minerregan@gmail.com
END:VEVENT
END:VCALENDAR