BEGIN:VCALENDAR
VERSION:2.0
PRODID:-//Norwich Historical Society - ECPv5.9.1//NONSGML v1.0//EN
CALSCALE:GREGORIAN
METHOD:PUBLISH
X-WR-CALNAME:Norwich Historical Society
X-ORIGINAL-URL:https://www.norwichhistoricalsociety.org
X-WR-CALDESC:Events for Norwich Historical Society
BEGIN:VTIMEZONE
TZID:America/New_York
BEGIN:DAYLIGHT
TZOFFSETFROM:-0500
TZOFFSETTO:-0400
TZNAME:EDT
DTSTART:20220313T070000
END:DAYLIGHT
BEGIN:STANDARD
TZOFFSETFROM:-0400
TZOFFSETTO:-0500
TZNAME:EST
DTSTART:20221106T060000
END:STANDARD
END:VTIMEZONE
BEGIN:VEVENT
DTSTART;TZID=America/New_York:20220114T170000
DTEND;TZID=America/New_York:20220114T174500
DTSTAMP:20260422T193908
CREATED:20220105T175825Z
LAST-MODIFIED:20220105T175825Z
UID:3253-1642179600-1642182300@www.norwichhistoricalsociety.org
SUMMARY:Lights out for Benedict Arnold
DESCRIPTION:Benedict Arnold was born on January 14\, 1741 in Norwich\, Connecticut. Benedict Arnold’s name is synonymous with the word traitor. Despite Arnold’s defection to the British\, he was a fierce patriot for the Continental Army. There are two sides to Benedict Arnold – patriot and traitor – yet often it is difficult to reconcile both aspects of his complex profile. \nJoin the Norwich Historical Society as we acknowledge Benedict Arnold’s birthday by turning off the City Hall Christmas Lights on Friday January 14\, 2022 at 5:00pm. Please practice social distancing during the event. After the event\, please consider patronizing one of the many downtown Norwich restaurants and businesses. Thank you to The City of Norwich for their support. This event is free and open to the public.
URL:https://www.norwichhistoricalsociety.org/event/lights-out-for-benedict-arnold/
LOCATION:City Hall\, 100 Broadway\, Norwich\, CT\, 06360\, United States
ATTACH;FMTTYPE=image/png:https://www.norwichhistoricalsociety.org/wp-content/uploads/2022/01/Facebook-Posts-15.png
ORGANIZER;CN="NHS":MAILTO:info@norwichhistoricalsociety.org
END:VEVENT
END:VCALENDAR