BEGIN:VCALENDAR
VERSION:2.0
PRODID:-//Norwich Historical Society - ECPv5.9.1//NONSGML v1.0//EN
CALSCALE:GREGORIAN
METHOD:PUBLISH
X-WR-CALNAME:Norwich Historical Society
X-ORIGINAL-URL:https://www.norwichhistoricalsociety.org
X-WR-CALDESC:Events for Norwich Historical Society
BEGIN:VTIMEZONE
TZID:America/New_York
BEGIN:DAYLIGHT
TZOFFSETFROM:-0500
TZOFFSETTO:-0400
TZNAME:EDT
DTSTART:20220313T070000
END:DAYLIGHT
BEGIN:STANDARD
TZOFFSETFROM:-0400
TZOFFSETTO:-0500
TZNAME:EST
DTSTART:20221106T060000
END:STANDARD
END:VTIMEZONE
BEGIN:VEVENT
DTSTART;TZID=America/New_York:20220328T180000
DTEND;TZID=America/New_York:20220328T193000
DTSTAMP:20260422T140255
CREATED:20220310T210722Z
LAST-MODIFIED:20220310T210809Z
UID:3447-1648490400-1648495800@www.norwichhistoricalsociety.org
SUMMARY:NHS Annual Meeting
DESCRIPTION:The Norwich Historical Society hosts an Annual Meeting\, which includes a brief business meeting and report\, followed by a program open to the public. The NHS Annual Meeting will be held on Monday March 28\, 2022 at 6:00pm via Zoom. Please register in advance for the Zoom link. \nOur featured program will be: “James L. Smith\, Norwich\, and the Underground Railroad in Connecticut: The Ties that Bind.” This presentation will be given by Dr. Stacey Close and focuses on the perilous journey of James L. Smith journey from enslavement to freedom in the North. His journey ties him to the national and state freedom struggle that served to transform the lives of people both in the South and North. The saving grace for many fugitives was the “ties that bind.” \nA native of Georgia\, Stacey Close has worked in higher education for more than 25 years.  A professor of African American history\, Close received his Ph.D. and M.A. from The Ohio State University and B.A. from Albany State College\, a HBCU in Georgia. He has made paper presentations at conferences such as the Southern Conference on African American Studies\, Association for the Study of Afro-American Life and History\, and Professional and Organizational Development Network. He has published with journals and presses such as the Journal of Negro History\, CT Explored\, Wesleyan University Press\, Garland Publishing\, Humanities\, and Guilford Press.  Some of his other honors include Connecticut State NAACP 100 Most Influential\, Eastern Connecticut State University s Faculty Teaching Award\,  Hartford Courant Magazine’s  12 Hot Professors\, and being an American Council on Education Fellow.  He has also worked in higher education administration at the department chair level\, director level\, and senior administration. Close has also served as panelist and guest on shows such as the Smithsonian Channel’s “Blacks and the Space Race\,” The Green Book\,” and NPR’s Where We Live and Disrupted. He is currently completing work entitled the “Black Hartford Freedom Struggle\, 1915-70.” \nREGISTER HERE 
URL:https://www.norwichhistoricalsociety.org/event/nhs-annual-meeting-3/
LOCATION:Zoom
CATEGORIES:Lectures,Virtual,Virtual Events
ATTACH;FMTTYPE=image/png:https://www.norwichhistoricalsociety.org/wp-content/uploads/2022/03/Lecture-Series-FB-Event-37.png
ORGANIZER;CN="NHS":MAILTO:info@norwichhistoricalsociety.org
END:VEVENT
END:VCALENDAR