BEGIN:VCALENDAR
VERSION:2.0
PRODID:-//Norwich Historical Society - ECPv5.9.1//NONSGML v1.0//EN
CALSCALE:GREGORIAN
METHOD:PUBLISH
X-WR-CALNAME:Norwich Historical Society
X-ORIGINAL-URL:https://www.norwichhistoricalsociety.org
X-WR-CALDESC:Events for Norwich Historical Society
BEGIN:VTIMEZONE
TZID:America/New_York
BEGIN:DAYLIGHT
TZOFFSETFROM:-0500
TZOFFSETTO:-0400
TZNAME:EDT
DTSTART:20220313T070000
END:DAYLIGHT
BEGIN:STANDARD
TZOFFSETFROM:-0400
TZOFFSETTO:-0500
TZNAME:EST
DTSTART:20221106T060000
END:STANDARD
END:VTIMEZONE
BEGIN:VEVENT
DTSTART;TZID=America/New_York:20221002T150000
DTEND;TZID=America/New_York:20221002T160000
DTSTAMP:20260420T055234
CREATED:20220726T170352Z
LAST-MODIFIED:20220726T170352Z
UID:3718-1664722800-1664726400@www.norwichhistoricalsociety.org
SUMMARY:William Buckingham's Norwich
DESCRIPTION:A one-hour stroll of the downtown in the footsteps of William A. Buckingham\, Mayor of Norwich\, Civil War Governor\, U.S. Senator. \nWalk starts at the Buckingham Memorial\, 307 Main Street. On and off street parking available. \nThis Walktober walk is sponsored by the Norwich City Historian \nSunday 10/2/2022 3:00pm 1 Mile\, Easy\, No restrooms available\, no wheelchair access\, no dogs please
URL:https://www.norwichhistoricalsociety.org/event/william-buckinghams-norwich-2/
LOCATION:Buckingham Memorial\, 307 Main Street\, Norwich\, CT\, 06360\, United States
ATTACH;FMTTYPE=image/png:https://www.norwichhistoricalsociety.org/wp-content/uploads/2022/07/Buckingham-Oct-2022-.png
ORGANIZER;CN="NHS":MAILTO:info@norwichhistoricalsociety.org
END:VEVENT
END:VCALENDAR