BEGIN:VCALENDAR
VERSION:2.0
PRODID:-//Norwich Historical Society - ECPv5.9.1//NONSGML v1.0//EN
CALSCALE:GREGORIAN
METHOD:PUBLISH
X-WR-CALNAME:Norwich Historical Society
X-ORIGINAL-URL:https://www.norwichhistoricalsociety.org
X-WR-CALDESC:Events for Norwich Historical Society
BEGIN:VTIMEZONE
TZID:America/New_York
BEGIN:DAYLIGHT
TZOFFSETFROM:-0500
TZOFFSETTO:-0400
TZNAME:EDT
DTSTART:20220313T070000
END:DAYLIGHT
BEGIN:STANDARD
TZOFFSETFROM:-0400
TZOFFSETTO:-0500
TZNAME:EST
DTSTART:20221106T060000
END:STANDARD
END:VTIMEZONE
BEGIN:VEVENT
DTSTART;TZID=America/New_York:20221006T130000
DTEND;TZID=America/New_York:20221006T143000
DTSTAMP:20260420T055323
CREATED:20220725T194437Z
LAST-MODIFIED:20220726T154623Z
UID:3683-1665061200-1665066600@www.norwichhistoricalsociety.org
SUMMARY:Shetucket River Powering Norwich and Lifting Fish
DESCRIPTION:Slow\, level walk past a working hydroelectric station to the historic dam on the Shetucket River. Observe the fish lift and view a video of the shad run. This Walktober walk is sponsored by Norwich Public Utilities. \n7 8th Street\, Norwich\, CT \nThursday 10/6/2022 1:00pm 1 Mile\, Moderate\, no restrooms\, no dogs please\, no wheelchair access
URL:https://www.norwichhistoricalsociety.org/event/shetucket-river-powering-norwich-and-lifting-fish/
LOCATION:7 8th Street Norwich\, CT 06360\, 7 8th Street\, Norwich\, CT\, 06360\, United States
ATTACH;FMTTYPE=image/png:https://www.norwichhistoricalsociety.org/wp-content/uploads/2022/07/Shetucket-River-Powering-Norwich-and-Lifting-Fish-2022.png
ORGANIZER;CN="NHS":MAILTO:info@norwichhistoricalsociety.org
END:VEVENT
BEGIN:VEVENT
DTSTART;TZID=America/New_York:20221006T150000
DTEND;TZID=America/New_York:20221006T163000
DTSTAMP:20260420T055323
CREATED:20220726T153843Z
LAST-MODIFIED:20220726T153843Z
UID:3701-1665068400-1665073800@www.norwichhistoricalsociety.org
SUMMARY:What’s All That Noise in The Last Green Valley
DESCRIPTION:Radio Ranger Kevin Harkins will demonstrate techniques and challenges for field recording nature sounds against the din of man-made noise like highway traffic and airplanes. Dr. Jerilyn Allen\, M.D. of Eastern CT Ear Nose and Throat will discuss the physiological and psychological effects of noise on human beings. We will recognize the noisiest town in The Last Green Valley and salute the quietest one. For questions call- 860 886-0762. \nThursday 10/6/2022 weather day\, 10/13/202 3:00pm Mohegan Park picnic pavilion: 20 Park Center Road\, Norwich\, CT 06360 \nThis Walktober walk is sponsored by Heritage Information Radio \n1/10 mile\, Easy\, Portable restroom\, Paved paths\, No dogs please
URL:https://www.norwichhistoricalsociety.org/event/whats-all-that-noise-in-the-last-green-valley/
LOCATION:Mohegan Park\, Mohegan Park Road\, Norwich\, CT\, CT\, 06360
ATTACH;FMTTYPE=image/png:https://www.norwichhistoricalsociety.org/wp-content/uploads/2022/07/Whats-all-that-noise.png
ORGANIZER;CN="NHS":MAILTO:info@norwichhistoricalsociety.org
END:VEVENT
END:VCALENDAR