BEGIN:VCALENDAR
VERSION:2.0
PRODID:-//Norwich Historical Society - ECPv5.9.1//NONSGML v1.0//EN
CALSCALE:GREGORIAN
METHOD:PUBLISH
X-WR-CALNAME:Norwich Historical Society
X-ORIGINAL-URL:https://www.norwichhistoricalsociety.org
X-WR-CALDESC:Events for Norwich Historical Society
BEGIN:VTIMEZONE
TZID:America/New_York
BEGIN:DAYLIGHT
TZOFFSETFROM:-0500
TZOFFSETTO:-0400
TZNAME:EDT
DTSTART:20220313T070000
END:DAYLIGHT
BEGIN:STANDARD
TZOFFSETFROM:-0400
TZOFFSETTO:-0500
TZNAME:EST
DTSTART:20221106T060000
END:STANDARD
END:VTIMEZONE
BEGIN:VEVENT
DTSTART;TZID=America/New_York:20221008T090000
DTEND;TZID=America/New_York:20221008T100000
DTSTAMP:20260420T055240
CREATED:20220726T170846Z
LAST-MODIFIED:20220726T170846Z
UID:3725-1665219600-1665223200@www.norwichhistoricalsociety.org
SUMMARY:The Village of Occum
DESCRIPTION:A one-hour\, one-mile tour of one of Norwich’s lesser-known mill villages. Learn about the Wequonnoc movement\, a move to create a new town from Taftville and Occum. Starts at McKeon Park\, 2 Taftville-Occum Road. \nSaturday 10/8/2022 9:00am\, 1 mile\, Moderate\, No restrooms\, Limited wheelchair access\, No dogs please \nThis Walktober walk is sponsored by the Norwich City Historian
URL:https://www.norwichhistoricalsociety.org/event/the-village-of-occum-2/
LOCATION:McKeon Park\, 2 Taftville-Occum Road\, Norwich\, CT\, 06360\, United States
ATTACH;FMTTYPE=image/png:https://www.norwichhistoricalsociety.org/wp-content/uploads/2022/07/The-Village-of-Occum-October-8-2022.png
ORGANIZER;CN="NHS":MAILTO:info@norwichhistoricalsociety.org
END:VEVENT
BEGIN:VEVENT
DTSTART;TZID=America/New_York:20221008T100000
DTEND;TZID=America/New_York:20221008T113000
DTSTAMP:20260420T055240
CREATED:20220722T174925Z
LAST-MODIFIED:20220819T150437Z
UID:3657-1665223200-1665228600@www.norwichhistoricalsociety.org
SUMMARY:Notables of Yantic Cemetery
DESCRIPTION:Please join local historian\, Dave Oat\, for a fascinating tour through the historic Yantic Cemetery. You will hear stories about the notable Norwich residents buried here\, learn about Victorian era funerary practices\, and discover the history behind the impressive nineteenth century monuments in the cemetery. Please note that there is limited parking in the Yantic Cemetery. If you plan to park in the Cemetery\, please be careful of small headstones. Parking is also available on side streets. \nYantic Cemetery\, 68 Lafayette Street\, Norwich\, CT \n1 mile\, easy\, and there are no restrooms nearby. Limited wheelchair access. No dogs please. This tour is free to attend\, but please register in advance by contacting us at info@norwichhistoricalsociety.org. \nThis Walktober walk is sponsored by the Norwich Historical Society
URL:https://www.norwichhistoricalsociety.org/event/notables-of-yantic-cemetery-3/
LOCATION:Yantic Cemetery\, 68 Lafayette Street \, Norwich \, CT\, 06360\, United States
ATTACH;FMTTYPE=image/png:https://www.norwichhistoricalsociety.org/wp-content/uploads/2022/07/Notables-of-Yantic-Cemetery-2022.png
ORGANIZER;CN="NHS":MAILTO:info@norwichhistoricalsociety.org
END:VEVENT
BEGIN:VEVENT
DTSTART;TZID=America/New_York:20221008T100000
DTEND;TZID=America/New_York:20221008T113000
DTSTAMP:20260420T055240
CREATED:20220725T195128Z
LAST-MODIFIED:20220929T143818Z
UID:3689-1665223200-1665228600@www.norwichhistoricalsociety.org
SUMMARY:The Legend of Uncas Leap
DESCRIPTION:Visit the Yantic River gorge\, a wonderful natural resource that is home to the legend of Uncas Leap. This tour will travel from the planned Uncas Leap Heritage Area to the Royal Mohegan Burial Ground. Explore the deep significance of the Mohegan Tribe’s heritage and its connection with the City of Norwich. Please note\, parking is not permitted on the site any longer. There is a small off site parking area on Yantic Street. Other parking options include Upper Falls and along Chelsea Parade. The GPS may direct you to Monroe Street\, which is incorrect. Please use 196 Yantic St\, Norwich\, CT 06360 as the address. \nSaturday 10/8/2022 10:00am 196 Yantic St\, Norwich\, CT 06360 \nThis Walktober walk is sponsored by the Mohegan Tribe and the Norwich Historical Society \n1.5 Miles\, Moderate\, no restrooms available\, limited wheelchair access\, please no dogs
URL:https://www.norwichhistoricalsociety.org/event/the-legend-of-uncas-leap-2/
LOCATION:Uncas Leap\, 200 Yantic Street\, Norwich \, CT\, 06360\, United States
ATTACH;FMTTYPE=image/png:https://www.norwichhistoricalsociety.org/wp-content/uploads/2022/07/NHS-Walktober-Eventbrite-4.png
ORGANIZER;CN="NHS":MAILTO:info@norwichhistoricalsociety.org
END:VEVENT
BEGIN:VEVENT
DTSTART;TZID=America/New_York:20221008T110000
DTEND;TZID=America/New_York:20221008T130000
DTSTAMP:20260420T055240
CREATED:20220725T193520Z
LAST-MODIFIED:20220929T223632Z
UID:3677-1665226800-1665234000@www.norwichhistoricalsociety.org
SUMMARY:Norwich Millionaires' Triangle
DESCRIPTION:Meet the families who lived in the mansions along Washington St. and Broadway – Norwich’s Millionaires’ Triangle – in the last half of the 19th century when Norwich was a wealthy manufacturing center whose residents drew the attention of people across the nation. We’ll talk about who they were and how they lived during the most opulent era of the City’s history. Parking: NFA or Chelsea Parade \nChelsea Parade South\, Norwich\, CT \nThis Walktober walk is sponsored by the Norwich Millionaires’ Triangle and the Norwich Historical Society \nSaturday 10/8/2022 11:00am 1 Mile Moderate\, No restrooms\, No wheelchair access\, No dogs please
URL:https://www.norwichhistoricalsociety.org/event/norwich-millionaires-triangle/
LOCATION:Chelsea Parade\, Chelsea Parade South \, Norwich\, CT\, 06360\, United States
ATTACH;FMTTYPE=image/png:https://www.norwichhistoricalsociety.org/wp-content/uploads/2022/07/NHS-Walktober-Eventbrite-5.png
ORGANIZER;CN="NHS":MAILTO:info@norwichhistoricalsociety.org
END:VEVENT
END:VCALENDAR