BEGIN:VCALENDAR
VERSION:2.0
PRODID:-//Norwich Historical Society - ECPv5.9.1//NONSGML v1.0//EN
CALSCALE:GREGORIAN
METHOD:PUBLISH
X-WR-CALNAME:Norwich Historical Society
X-ORIGINAL-URL:https://www.norwichhistoricalsociety.org
X-WR-CALDESC:Events for Norwich Historical Society
BEGIN:VTIMEZONE
TZID:America/New_York
BEGIN:DAYLIGHT
TZOFFSETFROM:-0500
TZOFFSETTO:-0400
TZNAME:EDT
DTSTART:20220313T070000
END:DAYLIGHT
BEGIN:STANDARD
TZOFFSETFROM:-0400
TZOFFSETTO:-0500
TZNAME:EST
DTSTART:20221106T060000
END:STANDARD
END:VTIMEZONE
BEGIN:VEVENT
DTSTART;TZID=America/New_York:20221010T130000
DTEND;TZID=America/New_York:20221010T150000
DTSTAMP:20260420T055518
CREATED:20220725T193132Z
LAST-MODIFIED:20220726T154443Z
UID:3674-1665406800-1665414000@www.norwichhistoricalsociety.org
SUMMARY:Firearms Factory Tour of Norwich
DESCRIPTION:Visit the factories where firearms were manufactured from the mid 1800’s to 1931. Learn about the interesting history of the firearms industry in the Rose City. Sponsored by Guns of Norwich Historical Society. Parking: City Hall Garage. \nCity Hall\, 100 Broadway\, Norwich\, CT \nThis Walktober walk is sponsored by the Guns of Norwich Historical Society \nMonday 10/10/2022 1:00pm 2 Miles\, Difficult\, No restrooms\, No wheelchair access\, and no dogs please
URL:https://www.norwichhistoricalsociety.org/event/firearms-factory-tour-of-norwich/
LOCATION:City Hall\, 100 Broadway\, Norwich\, CT\, 06360\, United States
ATTACH;FMTTYPE=image/png:https://www.norwichhistoricalsociety.org/wp-content/uploads/2022/07/Firearm-Factories-of-Norwich-2022.png
ORGANIZER;CN="NHS":MAILTO:info@norwichhistoricalsociety.org
END:VEVENT
END:VCALENDAR