BEGIN:VCALENDAR
VERSION:2.0
PRODID:-//Norwich Historical Society - ECPv5.9.1//NONSGML v1.0//EN
CALSCALE:GREGORIAN
METHOD:PUBLISH
X-WR-CALNAME:Norwich Historical Society
X-ORIGINAL-URL:https://www.norwichhistoricalsociety.org
X-WR-CALDESC:Events for Norwich Historical Society
BEGIN:VTIMEZONE
TZID:America/New_York
BEGIN:DAYLIGHT
TZOFFSETFROM:-0500
TZOFFSETTO:-0400
TZNAME:EDT
DTSTART:20220313T070000
END:DAYLIGHT
BEGIN:STANDARD
TZOFFSETFROM:-0400
TZOFFSETTO:-0500
TZNAME:EST
DTSTART:20221106T060000
END:STANDARD
END:VTIMEZONE
BEGIN:VEVENT
DTSTART;TZID=America/New_York:20221012T150000
DTEND;TZID=America/New_York:20221012T160000
DTSTAMP:20260420T055745
CREATED:20220726T155443Z
LAST-MODIFIED:20220819T150329Z
UID:3707-1665586800-1665590400@www.norwichhistoricalsociety.org
SUMMARY:Tour of the Old Norwich Bulletin
DESCRIPTION:Please join us for a talk and tour of the former home of the Norwich Bulletin. For more than 100 years the Norwich Bulleting occupied 66 Franklin Street. Hear about what it was like to work at the Bulletin and how the Bulletin’s former space has been transformed into a co-working space now known as Foundry 66. Following the tour participants can head next door to Epicure Brewing or These Guys Brewing Company for locally crafted beer. \nWednesday 10/12/2022 3:00pm\, 66 Franklin Street Norwich\, CT 06360 \nLess than a mile\, Easy\, Bathrooms available\, handicapped accessible\, no dogs please. This tour is free to attend\, but please register in advance by contacting us at info@norwichhistoricalsociety.org. \nThis Walktober walk is sponsored by Norwich Community Development Corporation and Foundry 66.
URL:https://www.norwichhistoricalsociety.org/event/tour-of-the-old-norwich-bulletin/
LOCATION:Foundry 66\, 66 Franklin Street\, Norwich\, CT\, 06360\, United States
ATTACH;FMTTYPE=image/png:https://www.norwichhistoricalsociety.org/wp-content/uploads/2022/07/Tour-of-the-Old-Norwich-Bulletin.png
ORGANIZER;CN="NHS":MAILTO:info@norwichhistoricalsociety.org
END:VEVENT
END:VCALENDAR