BEGIN:VCALENDAR
VERSION:2.0
PRODID:-//Norwich Historical Society - ECPv5.9.1//NONSGML v1.0//EN
CALSCALE:GREGORIAN
METHOD:PUBLISH
X-WR-CALNAME:Norwich Historical Society
X-ORIGINAL-URL:https://www.norwichhistoricalsociety.org
X-WR-CALDESC:Events for Norwich Historical Society
BEGIN:VTIMEZONE
TZID:America/New_York
BEGIN:DAYLIGHT
TZOFFSETFROM:-0500
TZOFFSETTO:-0400
TZNAME:EDT
DTSTART:20220313T070000
END:DAYLIGHT
BEGIN:STANDARD
TZOFFSETFROM:-0400
TZOFFSETTO:-0500
TZNAME:EST
DTSTART:20221106T060000
END:STANDARD
END:VTIMEZONE
BEGIN:VEVENT
DTSTART;TZID=America/New_York:20221022T100000
DTEND;TZID=America/New_York:20221022T110000
DTSTAMP:20260420T060307
CREATED:20220725T195637Z
LAST-MODIFIED:20220726T154408Z
UID:3696-1666432800-1666436400@www.norwichhistoricalsociety.org
SUMMARY:Yantic Cemetery Civil War Tour
DESCRIPTION:Local Civil War author and historian Vic Butsch gives visitors a fascinating walk through Yantic Cemetery\, the resting place for 383 Civil War Veterans. Each soldier who fought in that war had their own reasons for joining the effort\, and each had their own stories to tell. Vic will give voice to the stories of several of those unknown heroes\, as well as giving a glimpse of what life was like in the 1860’s. Also\, be prepared\, as not all the soldiers you will meet fought for the North. You will also visit the “Andersonville Circle” and learn of an outstanding effort\, following the war\, made by the City of Norwich\, not done by any other city in the nation. The walk is one hour long and no pets are allowed in the cemetery. Sponsored by Vic Butsch and Tommy Coletti. Please note that there is limited parking in the Yantic Cemetery. If you plan to park in the Cemetery\, please be careful of small headstones. Parking is also available on side streets. \nYantic Cemetery\, 68 Lafayette Street\, Norwich\, CT Saturday 10/22/2022 10:00am 1 Mile\, Easy\, No restrooms\, limited wheelchair access\, no dogs please \nThis Walktober walk is sponsored by Vic Butsch & Tommy Coletti
URL:https://www.norwichhistoricalsociety.org/event/yantic-cemetery-civil-war-tour-3/
LOCATION:Yantic Cemetery\, 68 Lafayette Street\, Norwich\, CT\, 06360\, United States
ATTACH;FMTTYPE=image/png:https://www.norwichhistoricalsociety.org/wp-content/uploads/2022/07/Yantic-Cemetery-Civil-War-Tour-2022-2.png
ORGANIZER;CN="NHS":MAILTO:info@norwichhistoricalsociety.org
END:VEVENT
BEGIN:VEVENT
DTSTART;TZID=America/New_York:20221022T130000
DTEND;TZID=America/New_York:20221022T143000
DTSTAMP:20260420T060307
CREATED:20220725T194107Z
LAST-MODIFIED:20220726T154344Z
UID:3680-1666443600-1666449000@www.norwichhistoricalsociety.org
SUMMARY:Hike around Mohegan Park
DESCRIPTION:Take a hike on the wild side with the Mohegan Striders!! A pleasant walk through the trails of Norwich’s Mohegan Park. Visit the monuments; then on to the trails where we’ll possibily get to see some wildlife. Meet in the park center by the fountain. Approximately 2 miles. Approximately an hour and a half duration. Please respect that no pets are allowed in Mohegan Park. Rain Date: October 23 1:00 pm. Advanced registration required. \nAdvance registration Telephone: 860-887-1518 \nThis Walktober walk is sponsored by the Mohegan Striders \nSaturday 10/22/2022 (Rain date 10/23 1pm) 1:00pm 2 Miles Moderate\, portable restroom\, no dogs please\, limited wheelchair access
URL:https://www.norwichhistoricalsociety.org/event/hike-around-mohegan-park-2/
LOCATION:Mohegan Park\, Mohegan Park Road\, Norwich\, CT\, CT\, 06360
ATTACH;FMTTYPE=image/png:https://www.norwichhistoricalsociety.org/wp-content/uploads/2022/07/Hike-around-Mohegan-Park-2022.png
ORGANIZER;CN="NHS":MAILTO:info@norwichhistoricalsociety.org
END:VEVENT
END:VCALENDAR