BEGIN:VCALENDAR
VERSION:2.0
PRODID:-//Norwich Historical Society - ECPv5.9.1//NONSGML v1.0//EN
CALSCALE:GREGORIAN
METHOD:PUBLISH
X-WR-CALNAME:Norwich Historical Society
X-ORIGINAL-URL:https://www.norwichhistoricalsociety.org
X-WR-CALDESC:Events for Norwich Historical Society
BEGIN:VTIMEZONE
TZID:America/New_York
BEGIN:DAYLIGHT
TZOFFSETFROM:-0500
TZOFFSETTO:-0400
TZNAME:EDT
DTSTART:20220313T070000
END:DAYLIGHT
BEGIN:STANDARD
TZOFFSETFROM:-0400
TZOFFSETTO:-0500
TZNAME:EST
DTSTART:20221106T060000
END:STANDARD
END:VTIMEZONE
BEGIN:VEVENT
DTSTART;TZID=America/New_York:20221023T130000
DTEND;TZID=America/New_York:20221023T143000
DTSTAMP:20260420T055622
CREATED:20220725T192444Z
LAST-MODIFIED:20220726T154326Z
UID:3666-1666530000-1666535400@www.norwichhistoricalsociety.org
SUMMARY:A Graceful Village
DESCRIPTION:Visit the historic Gothic style Grace Episcopal Church overlooking the village of Yantic and learn how its communicants have been central to life in this tiny settlement since 1851.  Listen to the magnificent pipe organ and hear the stories of the mill workers\, farmers\, and movers-and-shakers of Norwich who have worshipped here for nearly two centuries.  Afterward\, take a stroll through the little village with Norwich City Historian Dale Plummer.  Learn how the old woolen mill is being repurposed in the 21st century.  See Volunteer Engine Company Number 1\, founded in 1847\, and walk the old stone bridge built in 1909 for a visit by President William Howard Taft. \n——- \nGrace Episcopal Church\, 4 Chapel Hill Rd.\, Yantic\, CT 06349 \nThis Walktober walk is sponsored by the Grace Episcopal Church \n1 PM Sunday\, October 23 – 1/2 mile \nReservations: requested but not required 860 886-0762  All ages welcome for this easy event.  Dogs are okay but not necessarily encouraged.  Restrooms are available.  The event is wheel chair accessible.  Handicap parking is on the hill\, (do not block road)\, or in designated spaces in the village.
URL:https://www.norwichhistoricalsociety.org/event/a-graceful-village-2/
LOCATION:Grace Episcopal Church\, 4 Chapel Hill Road\, Norwich\, CT\, 06360\, United States
ATTACH;FMTTYPE=image/png:https://www.norwichhistoricalsociety.org/wp-content/uploads/2022/07/A-Graceful-Village-2022.png
ORGANIZER;CN="NHS":MAILTO:info@norwichhistoricalsociety.org
END:VEVENT
END:VCALENDAR