BEGIN:VCALENDAR
VERSION:2.0
PRODID:-//Norwich Historical Society - ECPv5.9.1//NONSGML v1.0//EN
CALSCALE:GREGORIAN
METHOD:PUBLISH
X-WR-CALNAME:Norwich Historical Society
X-ORIGINAL-URL:https://www.norwichhistoricalsociety.org
X-WR-CALDESC:Events for Norwich Historical Society
BEGIN:VTIMEZONE
TZID:America/New_York
BEGIN:DAYLIGHT
TZOFFSETFROM:-0500
TZOFFSETTO:-0400
TZNAME:EDT
DTSTART:20220313T070000
END:DAYLIGHT
BEGIN:STANDARD
TZOFFSETFROM:-0400
TZOFFSETTO:-0500
TZNAME:EST
DTSTART:20221106T060000
END:STANDARD
END:VTIMEZONE
BEGIN:VEVENT
DTSTART;TZID=America/New_York:20221031T180000
DTEND;TZID=America/New_York:20221031T200000
DTSTAMP:20260420T032723
CREATED:20220726T173256Z
LAST-MODIFIED:20220726T173307Z
UID:3742-1667239200-1667246400@www.norwichhistoricalsociety.org
SUMMARY:Halloween at the Visitors' Center
DESCRIPTION:Come trick or treating at the Norwich Heritage & Regional Visitors’ Center from 6:00pm-8:00pm on Halloween!
URL:https://www.norwichhistoricalsociety.org/event/halloween-at-the-visitors-center/
LOCATION:Norwich Heritage & Regional Visitors’ Center\, 69 East Town Street \, Norwich \, CT\, 06360\, United States
ATTACH;FMTTYPE=image/png:https://www.norwichhistoricalsociety.org/wp-content/uploads/2022/07/NHS-Walktober-Eventbrite-3.png
ORGANIZER;CN="NHS":MAILTO:info@norwichhistoricalsociety.org
END:VEVENT
END:VCALENDAR