BEGIN:VCALENDAR
VERSION:2.0
PRODID:-//Norwich Historical Society - ECPv5.9.1//NONSGML v1.0//EN
CALSCALE:GREGORIAN
METHOD:PUBLISH
X-WR-CALNAME:Norwich Historical Society
X-ORIGINAL-URL:https://www.norwichhistoricalsociety.org
X-WR-CALDESC:Events for Norwich Historical Society
BEGIN:VTIMEZONE
TZID:America/New_York
BEGIN:DAYLIGHT
TZOFFSETFROM:-0500
TZOFFSETTO:-0400
TZNAME:EDT
DTSTART:20230312T070000
END:DAYLIGHT
BEGIN:STANDARD
TZOFFSETFROM:-0400
TZOFFSETTO:-0500
TZNAME:EST
DTSTART:20231105T060000
END:STANDARD
END:VTIMEZONE
BEGIN:VEVENT
DTSTART;TZID=America/New_York:20230113T163000
DTEND;TZID=America/New_York:20230113T170000
DTSTAMP:20260419T233925
CREATED:20221213T160948Z
LAST-MODIFIED:20230105T200608Z
UID:4012-1673627400-1673629200@www.norwichhistoricalsociety.org
SUMMARY:Lights Out for Benedict Arnold Ceremony
DESCRIPTION:Benedict Arnold was born on January 14\, 1741 in Norwich\, Connecticut. Benedict Arnold’s name is synonymous with the word traitor. Despite Arnold’s defection to the British\, he was a fierce patriot for the Continental Army. There are two sides to Benedict Arnold – patriot and traitor – yet often it is difficult to reconcile both aspects of his complex profile. \nThe Norwich Historical Society in partnership with the Norwich Arts Center\, and the City of Norwich announce three events acknowledging Norwich’s infamous native son’s birthday. The first event will be a zoom panel discussion scheduled for Thursday\, January 12\, 2023\, at 6 p.m. led by scholars on the historical impact of Benedict Arnold’s military success and then treachery. This event is free to attend\, but advanced registration is required to receive the Zoom link. Please register for this event at norwichhistoricalsociety.org. \nThen\, the Lights Out event is scheduled for Friday January 13\, 2023 4:30pm with a ceremony held inside City Hall on the second floor\, and then outside when the City Hall holiday lights will be turned off. After the ceremony\, the Norwich Arts Center is hosting a Colonial Concert in the Donald Oat Theater at 62 Broadway at 5:30pm. Tom Callinan\, Rick Spencer and Dawn Indermuhle will perform. Hot cocoa and cookies will be provided. After the event\, please consider patronizing one of the many downtown Norwich restaurants and businesses. \nThank you to The City of Norwich for their support. These events are free and open to the public. Special thank you to Chelsea Groton Bank\, CT Humanities\, and Charter Oak Federal Credit Union for sponsoring these events.
URL:https://www.norwichhistoricalsociety.org/event/lights-out-for-benedict-arnold-ceremony/
LOCATION:City Hall\, 100 Broadway\, Norwich\, CT\, 06360\, United States
ATTACH;FMTTYPE=image/png:https://www.norwichhistoricalsociety.org/wp-content/uploads/2022/12/Ceremony-Flyer.png
ORGANIZER;CN="NHS":MAILTO:info@norwichhistoricalsociety.org
END:VEVENT
BEGIN:VEVENT
DTSTART;TZID=America/New_York:20230113T173000
DTEND;TZID=America/New_York:20230113T183000
DTSTAMP:20260419T233925
CREATED:20221213T161226Z
LAST-MODIFIED:20230105T200547Z
UID:4015-1673631000-1673634600@www.norwichhistoricalsociety.org
SUMMARY:Lights Out for Benedict Arnold Colonial Concert
DESCRIPTION:Benedict Arnold was born on January 14\, 1741 in Norwich\, Connecticut. Benedict Arnold’s name is synonymous with the word traitor. Despite Arnold’s defection to the British\, he was a fierce patriot for the Continental Army. There are two sides to Benedict Arnold – patriot and traitor – yet often it is difficult to reconcile both aspects of his complex profile. \nThe Norwich Historical Society in partnership with the Norwich Arts Center\, and the City of Norwich announce three events acknowledging Norwich’s infamous native son’s birthday. The first event will be a zoom panel discussion scheduled for Thursday\, January 12\, 2023\, at 6 p.m. led by scholars on the historical impact of Benedict Arnold’s military success and then treachery. This event is free to attend\, but advanced registration is required to receive the Zoom link. Please register for this event at norwichhistoricalsociety.org. \nThen\, the Lights Out event is scheduled for Friday January 13\, 2023 4:30pm with a ceremony held inside City Hall on the second floor\, and then outside when the City Hall holiday lights will be turned off. After the ceremony\, the Norwich Arts Center is hosting a Colonial Concert in the Donald Oat Theater at 62 Broadway at 5:30pm. Tom Callinan\, Rick Spencer and Dawn Indermuhle will perform. Hot cocoa and cookies will be provided. After the event\, please consider patronizing one of the many downtown Norwich restaurants and businesses. \nThank you to The City of Norwich for their support. These events are free and open to the public. Special thank you to Chelsea Groton Bank\, CT Humanities\, and Charter Oak Federal Credit Union for sponsoring these events.
URL:https://www.norwichhistoricalsociety.org/event/lights-out-for-benedict-arnold-colonial-concert/
LOCATION:Norwich Arts Center\, 62 Broadway\, Norwich\, CT\, 06360
ATTACH;FMTTYPE=image/png:https://www.norwichhistoricalsociety.org/wp-content/uploads/2022/12/Concert-flyer.png
ORGANIZER;CN="NHS":MAILTO:info@norwichhistoricalsociety.org
END:VEVENT
END:VCALENDAR