BEGIN:VCALENDAR
VERSION:2.0
PRODID:-//Norwich Historical Society - ECPv5.9.1//NONSGML v1.0//EN
CALSCALE:GREGORIAN
METHOD:PUBLISH
X-WR-CALNAME:Norwich Historical Society
X-ORIGINAL-URL:https://www.norwichhistoricalsociety.org
X-WR-CALDESC:Events for Norwich Historical Society
BEGIN:VTIMEZONE
TZID:America/New_York
BEGIN:DAYLIGHT
TZOFFSETFROM:-0500
TZOFFSETTO:-0400
TZNAME:EDT
DTSTART:20230312T070000
END:DAYLIGHT
BEGIN:STANDARD
TZOFFSETFROM:-0400
TZOFFSETTO:-0500
TZNAME:EST
DTSTART:20231105T060000
END:STANDARD
END:VTIMEZONE
BEGIN:VEVENT
DTSTART;TZID=America/New_York:20230506T110000
DTEND;TZID=America/New_York:20230506T150000
DTSTAMP:20260419T160548
CREATED:20221208T163701Z
LAST-MODIFIED:20230426T201300Z
UID:3997-1683370800-1683385200@www.norwichhistoricalsociety.org
SUMMARY:Colonial Days: Living History Event
DESCRIPTION:Colonial Days: Living History Event\nNorwichtown Green\nSaturday May 6\, 2023 11:00am -3:00pm\n\n\nThis event will feature: historical reenactors\, colonial crafters\, demonstrations\, games and hands on activities for children\, and entertainment. \nRediscovering History Inc. will be doing demonstrations on gravestone repair in the colonial burying ground from 12:00pm-2:00pm. \nUncle D’s Blazin’ BBQ will be our amazing food vendor! \nThe Joseph Carpenter Silversmith Shop Museum will be open from 11:00am -3:00pm and the Norwich Heritage & Regional Visitors’ Center will be open from 11:00am – 3:00pm. This event is sponsored by the Norwich Historical Society and the Society of the Founders of Norwich in celebration of the season opening of the Carpenter Shop and Visitors’ Center. This event is free and open to the public.  \n\n\n\nAvailable Event Parking: \nLimited Parking around the Norwichtown Green \nUCFS Rock Nook Location 77 East Town Street \nSamuel Huntington Mansion 34 East Town Street
URL:https://www.norwichhistoricalsociety.org/event/colonial-days-living-history-event/
LOCATION:Norwichtown Green\, Elm Ave\, Norwich\, CT\, 06360
ATTACH;FMTTYPE=image/png:https://www.norwichhistoricalsociety.org/wp-content/uploads/2022/12/Facebook-Posts-9.png
ORGANIZER;CN="NHS":MAILTO:info@norwichhistoricalsociety.org
END:VEVENT
END:VCALENDAR