BEGIN:VCALENDAR
VERSION:2.0
PRODID:-//Norwich Historical Society - ECPv5.9.1//NONSGML v1.0//EN
CALSCALE:GREGORIAN
METHOD:PUBLISH
X-WR-CALNAME:Norwich Historical Society
X-ORIGINAL-URL:https://www.norwichhistoricalsociety.org
X-WR-CALDESC:Events for Norwich Historical Society
BEGIN:VTIMEZONE
TZID:America/New_York
BEGIN:DAYLIGHT
TZOFFSETFROM:-0500
TZOFFSETTO:-0400
TZNAME:EDT
DTSTART:20230312T070000
END:DAYLIGHT
BEGIN:STANDARD
TZOFFSETFROM:-0400
TZOFFSETTO:-0500
TZNAME:EST
DTSTART:20231105T060000
END:STANDARD
END:VTIMEZONE
BEGIN:VEVENT
DTSTART;TZID=America/New_York:20230708T090000
DTEND;TZID=America/New_York:20230708T100000
DTSTAMP:20260419T122543
CREATED:20230509T190933Z
LAST-MODIFIED:20230509T191820Z
UID:4234-1688806800-1688810400@www.norwichhistoricalsociety.org
SUMMARY:NHS Second Saturday Tour: Rebels and Revolutionaries
DESCRIPTION:Please join us for a walking tour around Historic Norwichtown while Regan Miner\, Executive Director of the Norwich Historical Society\, tells stories of some of Norwichtown’s remarkable rebels and revolutionaries. \nOn this tour\, you’ll learn about incredible individuals such as Sarah Knight\, who defied traditional gender roles and was a colonial era tavern keeper and Jean Pierre Boyer\, who briefly lived in Norwichtown\, then went on to become the first President of Haiti. You’ll hear about a different kind of rebel such as brothers\, Alexander and James Robertson\, who were the proprietors and printers of Norwich’s first newspaper\, The Norwich Packet\, until their loyalist leanings forced them to leave town. Come experience Historic Norwichtown’s revolutionary history! After the tour\, please stick around for the Samuel Huntington Wreath Laying Ceremony in the Burying Ground at 10:30am. This event is hosted by the Norwich Historical Society. \nThere is parking available around the Norwichtown Green. Please meet on the Norwichtown Green on the corner of Elm Ave and Town Street. The tour will be roughly one hour and is less than a mile. The Burying Ground has hilly and uneven terrain\, which may not be suitable for wheelchairs. Restrooms are available in the Norwich Heritage and Regional Visitors Center which is open Friday – Sunday 11:00am-3:00pm. \n\n\nMember Pricing –$8.00\n\n\nNon-Member Pricing- $10.00\n\n\nChildren under 12 – Free\n\n\nPurchase tickets online HERE
URL:https://www.norwichhistoricalsociety.org/event/nhs-second-saturday-tour-rebels-and-revolutionaries/
LOCATION:Norwichtown Colonial Burying Ground\, East Town Street\, Norwich\, 06360\, United States
ATTACH;FMTTYPE=image/png:https://www.norwichhistoricalsociety.org/wp-content/uploads/2023/05/Lecture-Series-FB-Event-11.png
ORGANIZER;CN="NHS":MAILTO:info@norwichhistoricalsociety.org
END:VEVENT
BEGIN:VEVENT
DTSTART;TZID=America/New_York:20230708T103000
DTEND;TZID=America/New_York:20230708T113000
DTSTAMP:20260419T122543
CREATED:20230601T145045Z
LAST-MODIFIED:20230629T183433Z
UID:4276-1688812200-1688815800@www.norwichhistoricalsociety.org
SUMMARY:Samuel Huntington Wreath Laying Ceremony
DESCRIPTION:Please join the Norwich Historical Society in partnership with the Norwich Area Veterans Council\, and the City of Norwich as we honor Samuel Huntington with a wreath laying ceremony. Rain date is July 15th. \nHuntington\, a self-taught lawyer\, was born in Scotland\, CT on July 16\, 1731. His illustrious career included: serving in the Second Continental Congress; being a signatory of the Declaration of Independence; and President of the Continental Congress in 1781\, when the Articles of Confederation went into effect – thus making him the First President of the United States\, in Congress Assembled. He later served as a 10-term governor of the State of Connecticut. His mansion on East Town Street now houses the administrative headquarters of United Community and Family Services of Norwich. \nParking for this FREE event will be at 34 East Town Street or 41-47 Town Street. Please bring your own lawn chair.
URL:https://www.norwichhistoricalsociety.org/event/samuel-huntington-wreath-laying-ceremony/
LOCATION:Norwichtown Colonial Burying Ground\, East Town Street\, Norwich\, 06360\, United States
ATTACH;FMTTYPE=image/png:https://www.norwichhistoricalsociety.org/wp-content/uploads/2023/06/Lecture-Series-FB-Event-14.png
ORGANIZER;CN="NHS":MAILTO:info@norwichhistoricalsociety.org
END:VEVENT
END:VCALENDAR