BEGIN:VCALENDAR
VERSION:2.0
PRODID:-//Norwich Historical Society - ECPv5.9.1//NONSGML v1.0//EN
CALSCALE:GREGORIAN
METHOD:PUBLISH
X-WR-CALNAME:Norwich Historical Society
X-ORIGINAL-URL:https://www.norwichhistoricalsociety.org
X-WR-CALDESC:Events for Norwich Historical Society
BEGIN:VTIMEZONE
TZID:America/New_York
BEGIN:DAYLIGHT
TZOFFSETFROM:-0500
TZOFFSETTO:-0400
TZNAME:EDT
DTSTART:20230312T070000
END:DAYLIGHT
BEGIN:STANDARD
TZOFFSETFROM:-0400
TZOFFSETTO:-0500
TZNAME:EST
DTSTART:20231105T060000
END:STANDARD
END:VTIMEZONE
BEGIN:VEVENT
DTSTART;TZID=America/New_York:20230917T130000
DTEND;TZID=America/New_York:20230917T150000
DTSTAMP:20260419T092731
CREATED:20230711T185802Z
LAST-MODIFIED:20230913T140603Z
UID:4409-1694955600-1694962800@www.norwichhistoricalsociety.org
SUMMARY:Cape Verdean History of Norwich
DESCRIPTION:From the late nineteenth\, immigrants from the islands of Cape Verde\, formed a small but vital community in Norwich\, CT. Most lived or grew up in one or two Cape Verdean communities\, Talman Street and Sunnyside Avenue. Cape Verdean Communities spoke a distinct Cape Verdean Kriolu\, which is a Portuguese-based Creole language\, enjoyed music performed by The Santos Brothers-Abel\, Tia\, Antonio; Jose’\, Manuel & Lena played Cape Verdean Music and the Delgado Brothers-Joseph\, Candido\, Anthony\, Frank who performed Jazz and ragtime in the late 1920’s. St. Anthony Chapel\, built by immigrant Joseph Candido Delgado and baptized on July 4\, 1926 as a symbol of the arrival\, establishment and settlement of Cape Verdeans in Norwich and the Cape Verdean Santiago Society Club\, incorporated on June 6\, 1939\, served as a focal point where Cape Verdeans gathered with their families\, shared their delicious cachupa\, jagacida\, etc.\, spoke their native language and enjoyed the music of their homeland. The Chapel was razed in 2004 and a replica rebuilt in 2006; the Club burned down in 2007; but the memories of Talman Street will live on forever as Cabo Verde Way! \nUse 14 Talman Street Norwich\, CT 06360 for the address. The tour will primarily take place on Talman Street. Parking is available along Talman St or on Viaduct Road or in the Market Street Garage and walk to the starting place. \nPlease pre-register online. \nLength: 1 Mile\, Difficulty Level: Moderate\, Restroom: No\, Wheelchair access: No\, Leashed dogs: No\, Especially for children: No \nSponsoring organizations: Cape Verdean Santiago Society Inc\, St. Anthony Chapel Foundation\, Global City Norwich\, and Norwich Historical Society
URL:https://www.norwichhistoricalsociety.org/event/cape-verdean-history-of-norwich/
LOCATION:14 Talman Street Norwich\, CT 06360\, 14 Talman Street\, Norwich\, CT\, 06360
ATTACH;FMTTYPE=image/png:https://www.norwichhistoricalsociety.org/wp-content/uploads/2023/07/Cape-Verdean-History-of-Norwich-.png
END:VEVENT
END:VCALENDAR